{"text_format":"1","workbook":"xlsx","n_sheets":3,"sheets":["返済条件入力","返済計画表・元利均等返済方式","返済計画表・元金均等返済方式"],"not_rendered":{"charts":0,"images":0,"macros":1,"external_links":0,"defined_names":3,"comments":0,"pivot_tables":0},"unopened":[],"bounds":{"document_bytes":16777216,"sheet_cells":100000,"rows_first":2000,"rows_last":500,"rows_between":2000,"halvings":0,"cell_chars":16384,"cell_head_chars":4096},"cells_cut":0,"cells_raw":0,"read":"whole","date_system":"1900"}

{"sheet":"返済条件入力","index":0,"n_rows":17,"n_cols":4,"rows_kept":17,"cut":false,"hidden":false,"merged":[]}
[]
[]
[null,"返済計画表　返済条件入力"]
[]
[null,null,"▼返済条件入力▼"]
[null,"借入金額",100000000,"円"]
[]
[null,"金利",0.05,"年"]
[]
[null,"返済期間",10,"年"]
[]
[]
[null,"返済計画表　集計結果"]
[]
[null,"月返済額　元利均等返済方式",{"$f":"PMT(C8/12,C10*12,C6)","v":-1060655.1523907525},"円"]
[null,"返済計画表　元利均等返済方式","シート移動"]
[null,"返済計画表　元金均等返済方式","シート移動"]

{"sheet":"返済計画表・元利均等返済方式","index":1,"n_rows":55,"n_cols":30,"rows_kept":55,"cut":false,"hidden":false,"merged":[[2,2,2,3],[2,7,2,8],[2,12,2,13],[2,17,2,18]]}
[]
[null,"返済計画表　元利均等返済方式"]
[null,{"$f":"返済条件入力!B6","v":"借入金額"},{"$f":"返済条件入力!C6","v":100000000},null,null,null,{"$f":"返済条件入力!B8","v":"金利"},{"$f":"返済条件入力!C8","v":0.05},null,null,null,"返済回数",{"$f":"返済条件入力!C10*12","v":120},null,null,null,"月返済額",{"$f":"返済条件入力!C15","v":-1060655.1523907525}]
[]
[null,"支払回","返済額","元金","利息",null,"支払回","返済額","元金","利息",null,"支払回","返済額","元金","利息",null,"支払回","返済額","元金","利息",null,"支払回","返済額","元金","利息"]
[null,1,{"$f":"+返済条件入力!$C$15","v":-1060655.1523907525},{"$f":"+PPMT(返済条件入力!$C$8/12,B6,返済条件入力!$C$10*12,返済条件入力!$C$6)","v":-643988.48572408571},{"$f":"+C6-D6","v":-416666.66666666674},null,51,{"$f":"IF(AC6<0,\"-\",+返済条件入力!$C$15)","v":-1060655.1523907525},{"$f":"IF(AC6<0,\"-\",+PPMT(返済条件入力!$C$8/12,G6,返済条件入力!$C$10*12,返済条件入力!$C$6))","v":-792808.22221226338},{"$f":"IF(AC6<0,\"-\",+H6-I6)","v":-267846.93017848907},null,101,{"$f":"IF(AB6<0,\"-\",+返済条件入力!$C$15)","v":-1060655.1523907525},{"$f":"IF(AB6<0,\"-\",+PPMT(返済条件入力!$C$8/12,L6,返済条件入力!$C$10*12,返済条件入力!$C$6))","v":-976018.8126665781},{"$f":"IF(AB6<0,\"-\",+M6-N6)","v":-84636.339724174351},null,151,{"$f":"IF(AA6<0,\"-\",+返済条件入力!$C$15)","v":"-"},{"$f":"IF(AA6<0,\"-\",+PPMT(返済条件入力!$C$8/12,Q6,返済条件入力!$C$10*12,返済条件入力!$C$6))","v":"-"},{"$f":"IF(AA6<0,\"-\",+R6-S6)","v":"-"},null,201,{"$f":"IF(Z6<0,\"-\",+返済条件入力!$C$15)","v":"-"},{"$f":"IF(Z6<0,\"-\",+PPMT(返済条件入力!$C$8/12,V6,返済条件入力!$C$10*12,返済条件入力!$C$6))","v":"-"},{"$f":"IF(Z6<0,\"-\",+W6-X6)","v":"-"},{"$f":"+M$3-V6","v":-81},{"$f":"+M$3-Q6","v":-31},{"$f":"+M$3-L6","v":19},{"$f":"+M$3-G6","v":69},{"$f":"+M$3-B6","v":119}]
[null,2,{"$f":"IF(AD6<0,\"-\",+返済条件入力!$C$15)","v":-1060655.1523907525},{"$f":"IF(AD6<0,\"-\",+PPMT(返済条件入力!$C$8/12,B7,返済条件入力!$C$10*12,返済条件入力!$C$6))","v":-646671.77108126937},{"$f":"IF(AD6<0,\"-\",+C7-D7)","v":-413983.38130948308},null,52,{"$f":"IF(AC7<0,\"-\",+返済条件入力!$C$15)","v":-1060655.1523907525},{"$f":"IF(AC7<0,\"-\",+PPMT(返済条件入力!$C$8/12,G7,返済条件入力!$C$10*12,返済条件入力!$C$6))","v":-796111.58980481455},{"$f":"IF(AC7<0,\"-\",+H7-I7)","v":-264543.56258593791},null,102,{"$f":"IF(AB7<0,\"-\",+返済条件入力!$C$15)","v":-1060655.1523907525},{"$f":"IF(AB7<0,\"-\",+PPMT(返済条件入力!$C$8/12,L7,返済条件入力!$C$10*12,返済条件入力!$C$6))","v":-980085.55771935557},{"$f":"IF(AB7<0,\"-\",+M7-N7)","v":-80569.594671396888},null,152,{"$f":"IF(AA7<0,\"-\",+返済条件入力!$C$15)","v":"-"},{"$f":"IF(AA7<0,\"-\",+PPMT(返済条件入力!$C$8/12,Q7,返済条件入力!$C$10*12,返済条件入力!$C$6))","v":"-"},{"$f":"IF(AA7<0,\"-\",+R7-S7)","v":"-"},null,202,{"$f":"IF(Z7<0,\"-\",+返済条件入力!$C$15)","v":"-"},{"$f":"IF(Z7<0,\"-\",+PPMT(返済条件入力!$C$8/12,V7,返済条件入力!$C$10*12,返済条件入力!$C$6))","v":"-"},{"$f":"IF(Z7<0,\"-\",+W7-X7)","v":"-"},{"$f":"+M$3-V7","v":-82},{"$f":"+M$3-Q7","v":-32},{"$f":"+M$3-L7","v":18},{"$f":"+M$3-G7","v":68},{"$f":"+M$3-B7","v":118}]
[null,3,{"$f":"IF(AD7<0,\"-\",+返済条件入力!$C$15)","v":-1060655.1523907525},{"$f":"IF(AD7<0,\"-\",+PPMT(返済条件入力!$C$8/12,B8,返済条件入力!$C$10*12,返済条件入力!$C$6))","v":-649366.23679410806},{"$f":"IF(AD7<0,\"-\",+C8-D8)","v":-411288.91559664439},null,53,{"$f":"IF(AC8<0,\"-\",+返済条件入力!$C$15)","v":-1060655.1523907525},{"$f":"IF(AC8<0,\"-\",+PPMT(返済条件入力!$C$8/12,G8,返済条件入力!$C$10*12,返済条件入力!$C$6))","v":-799428.72142900131},-261226.43096175115,null,103,{"$f":"IF(AB8<0,\"-\",+返済条件入力!$C$15)","v":-1060655.1523907525},{"$f":"IF(AB8<0,\"-\",+PPMT(返済条件入力!$C$8/12,L8,返済条件入力!$C$10*12,返済条件入力!$C$6))","v":-984169.24754318618},-76485.904847566271,null,153,{"$f":"IF(AA8<0,\"-\",+返済条件入力!$C$15)","v":"-"},{"$f":"IF(AA8<0,\"-\",+PPMT(返済条件入力!$C$8/12,Q8,返済条件入力!$C$10*12,返済条件入力!$C$6))","v":"-"},"-",null,203,{"$f":"IF(Z8<0,\"-\",+返済条件入力!$C$15)","v":"-"},{"$f":"IF(Z8<0,\"-\",+PPMT(返済条件入力!$C$8/12,V8,返済条件入力!$C$10*12,返済条件入力!$C$6))","v":"-"},"-",-83,-33,17,67,117]
[null,4,{"$f":"IF(AD8<0,\"-\",+返済条件入力!$C$15)","v":-1060655.1523907525},{"$f":"IF(AD8<0,\"-\",+PPMT(返済条件入力!$C$8/12,B9,返済条件入力!$C$10*12,返済条件入力!$C$6))","v":-652071.9294474168},-408583.22294333566,null,54,{"$f":"IF(AC9<0,\"-\",+返済条件入力!$C$15)","v":-1060655.1523907525},{"$f":"IF(AC9<0,\"-\",+PPMT(返済条件入力!$C$8/12,G9,返済条件入力!$C$10*12,返済条件入力!$C$6))","v":-802759.67443495558},-257895.47795579687,null,104,{"$f":"IF(AB9<0,\"-\",+返済条件入力!$C$15)","v":-1060655.1523907525},{"$f":"IF(AB9<0,\"-\",+PPMT(返済条件入力!$C$8/12,L9,返済条件入力!$C$10*12,返済条件入力!$C$6))","v":-988269.95274128276},-72385.199649469694,null,154,{"$f":"IF(AA9<0,\"-\",+返済条件入力!$C$15)","v":"-"},{"$f":"IF(AA9<0,\"-\",+PPMT(返済条件入力!$C$8/12,Q9,返済条件入力!$C$10*12,返済条件入力!$C$6))","v":"-"},"-",null,204,{"$f":"IF(Z9<0,\"-\",+返済条件入力!$C$15)","v":"-"},{"$f":"IF(Z9<0,\"-\",+PPMT(返済条件入力!$C$8/12,V9,返済条件入力!$C$10*12,返済条件入力!$C$6))","v":"-"},"-",-84,-34,16,66,116]
[null,5,{"$f":"IF(AD9<0,\"-\",+返済条件入力!$C$15)","v":-1060655.1523907525},{"$f":"IF(AD9<0,\"-\",+PPMT(返済条件入力!$C$8/12,B10,返済条件入力!$C$10*12,返済条件入力!$C$6))","v":-654788.89582011441},-405866.25657063804,null,55,{"$f":"IF(AC10<0,\"-\",+返済条件入力!$C$15)","v":-1060655.1523907525},{"$f":"IF(AC10<0,\"-\",+PPMT(返済条件入力!$C$8/12,G10,返済条件入力!$C$10*12,返済条件入力!$C$6))","v":-806104.50641176791},-254550.64597898454,null,105,{"$f":"IF(AB10<0,\"-\",+返済条件入力!$C$15)","v":-1060655.1523907525},{"$f":"IF(AB10<0,\"-\",+PPMT(返済条件入力!$C$8/12,L10,返済条件入力!$C$10*12,返済条件入力!$C$6))","v":-992387.74421103811},-68267.408179714344,null,155,{"$f":"IF(AA10<0,\"-\",+返済条件入力!$C$15)","v":"-"},{"$f":"IF(AA10<0,\"-\",+PPMT(返済条件入力!$C$8/12,Q10,返済条件入力!$C$10*12,返済条件入力!$C$6))","v":"-"},"-",null,205,{"$f":"IF(Z10<0,\"-\",+返済条件入力!$C$15)","v":"-"},{"$f":"IF(Z10<0,\"-\",+PPMT(返済条件入力!$C$8/12,V10,返済条件入力!$C$10*12,返済条件入力!$C$6))","v":"-"},"-",-85,-35,15,65,115]
[null,6,{"$f":"IF(AD10<0,\"-\",+返済条件入力!$C$15)","v":-1060655.1523907525},{"$f":"IF(AD10<0,\"-\",+PPMT(返済条件入力!$C$8/12,B11,返済条件入力!$C$10*12,返済条件入力!$C$6))","v":-657517.18288603146},-403137.969504721,null,56,{"$f":"IF(AC11<0,\"-\",+返済条件入力!$C$15)","v":-1060655.1523907525},{"$f":"IF(AC11<0,\"-\",+PPMT(返済条件入力!$C$8/12,G11,返済条件入力!$C$10*12,返済条件入力!$C$6))","v":-809463.27518848353},-251191.87720226892,null,106,{"$f":"IF(AB11<0,\"-\",+返済条件入力!$C$15)","v":-1060655.1523907525},{"$f":"IF(AB11<0,\"-\",+PPMT(返済条件入力!$C$8/12,L11,返済条件入力!$C$10*12,返済条件入力!$C$6))","v":-996522.69314525079},-64132.459245501668,null,156,{"$f":"IF(AA11<0,\"-\",+返済条件入力!$C$15)","v":"-"},{"$f":"IF(AA11<0,\"-\",+PPMT(返済条件入力!$C$8/12,Q11,返済条件入力!$C$10*12,返済条件入力!$C$6))","v":"-"},"-",null,206,{"$f":"IF(Z11<0,\"-\",+返済条件入力!$C$15)","v":"-"},{"$f":"IF(Z11<0,\"-\",+PPMT(返済条件入力!$C$8/12,V11,返済条件入力!$C$10*12,返済条件入力!$C$6))","v":"-"},"-",-86,-36,14,64,114]
[null,7,{"$f":"IF(AD11<0,\"-\",+返済条件入力!$C$15)","v":-1060655.1523907525},{"$f":"IF(AD11<0,\"-\",+PPMT(返済条件入力!$C$8/12,B12,返済条件入力!$C$10*12,返済条件入力!$C$6))","v":-660256.83781472337},-400398.31457602908,null,57,{"$f":"IF(AC12<0,\"-\",+返済条件入力!$C$15)","v":-1060655.1523907525},{"$f":"IF(AC12<0,\"-\",+PPMT(返済条件入力!$C$8/12,G12,返済条件入力!$C$10*12,返済条件入力!$C$6))","v":-812836.03883510211},-247819.11355565034,null,107,{"$f":"IF(AB12<0,\"-\",+返済条件入力!$C$15)","v":-1060655.1523907525},{"$f":"IF(AB12<0,\"-\",+PPMT(返済条件入力!$C$8/12,L12,返済条件入力!$C$10*12,返済条件入力!$C$6))","v":-1000674.8710333559},-59980.28135739651,null,157,{"$f":"IF(AA12<0,\"-\",+返済条件入力!$C$15)","v":"-"},{"$f":"IF(AA12<0,\"-\",+PPMT(返済条件入力!$C$8/12,Q12,返済条件入力!$C$10*12,返済条件入力!$C$6))","v":"-"},"-",null,207,{"$f":"IF(Z12<0,\"-\",+返済条件入力!$C$15)","v":"-"},{"$f":"IF(Z12<0,\"-\",+PPMT(返済条件入力!$C$8/12,V12,返済条件入力!$C$10*12,返済条件入力!$C$6))","v":"-"},"-",-87,-37,13,63,113]
[null,8,{"$f":"IF(AD12<0,\"-\",+返済条件入力!$C$15)","v":-1060655.1523907525},{"$f":"IF(AD12<0,\"-\",+PPMT(返済条件入力!$C$8/12,B13,返済条件入力!$C$10*12,返済条件入力!$C$6))","v":-663007.90797228459},-397647.24441846786,null,58,{"$f":"IF(AC13<0,\"-\",+返済条件入力!$C$15)","v":-1060655.1523907525},{"$f":"IF(AC13<0,\"-\",+PPMT(返済条件入力!$C$8/12,G13,返済条件入力!$C$10*12,返済条件入力!$C$6))","v":-816222.85566358175},-244432.2967271707,null,108,{"$f":"IF(AB13<0,\"-\",+返済条件入力!$C$15)","v":-1060655.1523907525},{"$f":"IF(AB13<0,\"-\",+PPMT(返済条件入力!$C$8/12,L13,返済条件入力!$C$10*12,返済条件入力!$C$6))","v":-1004844.3496626617},-55810.802728090785,null,158,{"$f":"IF(AA13<0,\"-\",+返済条件入力!$C$15)","v":"-"},{"$f":"IF(AA13<0,\"-\",+PPMT(返済条件入力!$C$8/12,Q13,返済条件入力!$C$10*12,返済条件入力!$C$6))","v":"-"},"-",null,208,{"$f":"IF(Z13<0,\"-\",+返済条件入力!$C$15)","v":"-"},{"$f":"IF(Z13<0,\"-\",+PPMT(返済条件入力!$C$8/12,V13,返済条件入力!$C$10*12,返済条件入力!$C$6))","v":"-"},"-",-88,-38,12,62,112]
[null,9,{"$f":"IF(AD13<0,\"-\",+返済条件入力!$C$15)","v":-1060655.1523907525},{"$f":"IF(AD13<0,\"-\",+PPMT(返済条件入力!$C$8/12,B14,返済条件入力!$C$10*12,返済条件入力!$C$6))","v":-665770.44092216913},-394884.71146858332,null,59,{"$f":"IF(AC14<0,\"-\",+返済条件入力!$C$15)","v":-1060655.1523907525},{"$f":"IF(AC14<0,\"-\",+PPMT(返済条件入力!$C$8/12,G14,返済条件入力!$C$10*12,返済条件入力!$C$6))","v":-819623.78422884655},-241031.36816190591,null,109,{"$f":"IF(AB14<0,\"-\",+返済条件入力!$C$15)","v":-1060655.1523907525},{"$f":"IF(AB14<0,\"-\",+PPMT(返済条件入力!$C$8/12,L14,返済条件入力!$C$10*12,返済条件入力!$C$6))","v":-1009031.2011195894},-51623.951271163067,null,159,{"$f":"IF(AA14<0,\"-\",+返済条件入力!$C$15)","v":"-"},{"$f":"IF(AA14<0,\"-\",+PPMT(返済条件入力!$C$8/12,Q14,返済条件入力!$C$10*12,返済条件入力!$C$6))","v":"-"},"-",null,209,{"$f":"IF(Z14<0,\"-\",+返済条件入力!$C$15)","v":"-"},{"$f":"IF(Z14<0,\"-\",+PPMT(返済条件入力!$C$8/12,V14,返済条件入力!$C$10*12,返済条件入力!$C$6))","v":"-"},"-",-89,-39,11,61,111]
[null,10,{"$f":"IF(AD14<0,\"-\",+返済条件入力!$C$15)","v":-1060655.1523907525},{"$f":"IF(AD14<0,\"-\",+PPMT(返済条件入力!$C$8/12,B15,返済条件入力!$C$10*12,返済条件入力!$C$6))","v":-668544.48442601168},-392110.66796474077,null,60,{"$f":"IF(AC15<0,\"-\",+返済条件入力!$C$15)","v":-1060655.1523907525},{"$f":"IF(AC15<0,\"-\",+PPMT(返済条件入力!$C$8/12,G15,返済条件入力!$C$10*12,返済条件入力!$C$6))","v":-823038.8833298001},-237616.26906095236,null,110,{"$f":"IF(AB15<0,\"-\",+返済条件入力!$C$15)","v":-1060655.1523907525},{"$f":"IF(AB15<0,\"-\",+PPMT(返済条件入力!$C$8/12,L15,返済条件入力!$C$10*12,返済条件入力!$C$6))","v":-1013235.497790921},-47419.65459983144,null,160,{"$f":"IF(AA15<0,\"-\",+返済条件入力!$C$15)","v":"-"},{"$f":"IF(AA15<0,\"-\",+PPMT(返済条件入力!$C$8/12,Q15,返済条件入力!$C$10*12,返済条件入力!$C$6))","v":"-"},"-",null,210,{"$f":"IF(Z15<0,\"-\",+返済条件入力!$C$15)","v":"-"},{"$f":"IF(Z15<0,\"-\",+PPMT(返済条件入力!$C$8/12,V15,返済条件入力!$C$10*12,返済条件入力!$C$6))","v":"-"},"-",-90,-40,10,60,110]
[null,11,{"$f":"IF(AD15<0,\"-\",+返済条件入力!$C$15)","v":-1060655.1523907525},{"$f":"IF(AD15<0,\"-\",+PPMT(返済条件入力!$C$8/12,B16,返済条件入力!$C$10*12,返済条件入力!$C$6))","v":-671330.08644445334},-389325.06594629912,null,61,{"$f":"IF(AC16<0,\"-\",+返済条件入力!$C$15)","v":-1060655.1523907525},{"$f":"IF(AC16<0,\"-\",+PPMT(返済条件入力!$C$8/12,G16,返済条件入力!$C$10*12,返済条件入力!$C$6))","v":-826468.212010341},-234186.94038041146,null,111,{"$f":"IF(AB16<0,\"-\",+返済条件入力!$C$15)","v":-1060655.1523907525},{"$f":"IF(AB16<0,\"-\",+PPMT(返済条件入力!$C$8/12,L16,返済条件入力!$C$10*12,返済条件入力!$C$6))","v":-1017457.3123650497},-43197.840025702724,null,161,{"$f":"IF(AA16<0,\"-\",+返済条件入力!$C$15)","v":"-"},{"$f":"IF(AA16<0,\"-\",+PPMT(返済条件入力!$C$8/12,Q16,返済条件入力!$C$10*12,返済条件入力!$C$6))","v":"-"},"-",null,211,{"$f":"IF(Z16<0,\"-\",+返済条件入力!$C$15)","v":"-"},{"$f":"IF(Z16<0,\"-\",+PPMT(返済条件入力!$C$8/12,V16,返済条件入力!$C$10*12,返済条件入力!$C$6))","v":"-"},"-",-91,-41,9,59,109]
[null,12,{"$f":"IF(AD16<0,\"-\",+返済条件入力!$C$15)","v":-1060655.1523907525},{"$f":"IF(AD16<0,\"-\",+PPMT(返済条件入力!$C$8/12,B17,返済条件入力!$C$10*12,返済条件入力!$C$6))","v":-674127.29513797187},-386527.85725278058,null,62,{"$f":"IF(AC17<0,\"-\",+返済条件入力!$C$15)","v":-1060655.1523907525},{"$f":"IF(AC17<0,\"-\",+PPMT(返済条件入力!$C$8/12,G17,返済条件入力!$C$10*12,返済条件入力!$C$6))","v":-829911.82956038415},-230743.3228303683,null,112,{"$f":"IF(AB17<0,\"-\",+返済条件入力!$C$15)","v":-1060655.1523907525},{"$f":"IF(AB17<0,\"-\",+PPMT(返済条件入力!$C$8/12,L17,返済条件入力!$C$10*12,返済条件入力!$C$6))","v":-1021696.7178332375},-38958.434557514964,null,162,{"$f":"IF(AA17<0,\"-\",+返済条件入力!$C$15)","v":"-"},{"$f":"IF(AA17<0,\"-\",+PPMT(返済条件入力!$C$8/12,Q17,返済条件入力!$C$10*12,返済条件入力!$C$6))","v":"-"},"-",null,212,{"$f":"IF(Z17<0,\"-\",+返済条件入力!$C$15)","v":"-"},{"$f":"IF(Z17<0,\"-\",+PPMT(返済条件入力!$C$8/12,V17,返済条件入力!$C$10*12,返済条件入力!$C$6))","v":"-"},"-",-92,-42,8,58,108]
[null,13,{"$f":"IF(AD17<0,\"-\",+返済条件入力!$C$15)","v":-1060655.1523907525},{"$f":"IF(AD17<0,\"-\",+PPMT(返済条件入力!$C$8/12,B18,返済条件入力!$C$10*12,返済条件入力!$C$6))","v":-676936.15886771341},-383718.99352303904,null,63,{"$f":"IF(AC18<0,\"-\",+返済条件入力!$C$15)","v":-1060655.1523907525},{"$f":"IF(AC18<0,\"-\",+PPMT(返済条件入力!$C$8/12,G18,返済条件入力!$C$10*12,返済条件入力!$C$6))","v":-833369.7955168857},-227285.35687386675,null,113,{"$f":"IF(AB18<0,\"-\",+返済条件入力!$C$15)","v":-1060655.1523907525},{"$f":"IF(AB18<0,\"-\",+PPMT(返済条件入力!$C$8/12,L18,返済条件入力!$C$10*12,返済条件入力!$C$6))","v":-1025953.787490876},-34701.364899876411,null,163,{"$f":"IF(AA18<0,\"-\",+返済条件入力!$C$15)","v":"-"},{"$f":"IF(AA18<0,\"-\",+PPMT(返済条件入力!$C$8/12,Q18,返済条件入力!$C$10*12,返済条件入力!$C$6))","v":"-"},"-",null,213,{"$f":"IF(Z18<0,\"-\",+返済条件入力!$C$15)","v":"-"},{"$f":"IF(Z18<0,\"-\",+PPMT(返済条件入力!$C$8/12,V18,返済条件入力!$C$10*12,返済条件入力!$C$6))","v":"-"},"-",-93,-43,7,57,107]
[null,14,{"$f":"IF(AD18<0,\"-\",+返済条件入力!$C$15)","v":-1060655.1523907525},{"$f":"IF(AD18<0,\"-\",+PPMT(返済条件入力!$C$8/12,B19,返済条件入力!$C$10*12,返済条件入力!$C$6))","v":-679756.72619632888},-380898.42619442358,null,64,{"$f":"IF(AC19<0,\"-\",+返済条件入力!$C$15)","v":-1060655.1523907525},{"$f":"IF(AC19<0,\"-\",+PPMT(返済条件入力!$C$8/12,G19,返済条件入力!$C$10*12,返済条件入力!$C$6))","v":-836842.16966487269},-223812.98272587976,null,114,{"$f":"IF(AB19<0,\"-\",+返済条件入力!$C$15)","v":-1060655.1523907525},{"$f":"IF(AB19<0,\"-\",+PPMT(返済条件入力!$C$8/12,L19,返済条件入力!$C$10*12,返済条件入力!$C$6))","v":-1030228.5949387547},-30426.557451997767,null,164,{"$f":"IF(AA19<0,\"-\",+返済条件入力!$C$15)","v":"-"},{"$f":"IF(AA19<0,\"-\",+PPMT(返済条件入力!$C$8/12,Q19,返済条件入力!$C$10*12,返済条件入力!$C$6))","v":"-"},"-",null,214,{"$f":"IF(Z19<0,\"-\",+返済条件入力!$C$15)","v":"-"},{"$f":"IF(Z19<0,\"-\",+PPMT(返済条件入力!$C$8/12,V19,返済条件入力!$C$10*12,返済条件入力!$C$6))","v":"-"},"-",-94,-44,6,56,106]
[null,15,{"$f":"IF(AD19<0,\"-\",+返済条件入力!$C$15)","v":-1060655.1523907525},{"$f":"IF(AD19<0,\"-\",+PPMT(返済条件入力!$C$8/12,B20,返済条件入力!$C$10*12,返済条件入力!$C$6))","v":-682589.04588881356},-378066.10650193889,null,65,{"$f":"IF(AC20<0,\"-\",+返済条件入力!$C$15)","v":-1060655.1523907525},{"$f":"IF(AC20<0,\"-\",+PPMT(返済条件入力!$C$8/12,G20,返済条件入力!$C$10*12,返済条件入力!$C$6))","v":-840329.01203847642},-220326.14035227604,null,115,{"$f":"IF(AB20<0,\"-\",+返済条件入力!$C$15)","v":-1060655.1523907525},{"$f":"IF(AB20<0,\"-\",+PPMT(返済条件入力!$C$8/12,L20,返済条件入力!$C$10*12,返済条件入力!$C$6))","v":-1034521.2140843328},-26133.938306419645,null,165,{"$f":"IF(AA20<0,\"-\",+返済条件入力!$C$15)","v":"-"},{"$f":"IF(AA20<0,\"-\",+PPMT(返済条件入力!$C$8/12,Q20,返済条件入力!$C$10*12,返済条件入力!$C$6))","v":"-"},"-",null,215,{"$f":"IF(Z20<0,\"-\",+返済条件入力!$C$15)","v":"-"},{"$f":"IF(Z20<0,\"-\",+PPMT(返済条件入力!$C$8/12,V20,返済条件入力!$C$10*12,返済条件入力!$C$6))","v":"-"},"-",-95,-45,5,55,105]
[null,16,{"$f":"IF(AD20<0,\"-\",+返済条件入力!$C$15)","v":-1060655.1523907525},{"$f":"IF(AD20<0,\"-\",+PPMT(返済条件入力!$C$8/12,B21,返済条件入力!$C$10*12,返済条件入力!$C$6))","v":-685433.16691335035},-375221.98547740211,null,66,{"$f":"IF(AC21<0,\"-\",+返済条件入力!$C$15)","v":-1060655.1523907525},{"$f":"IF(AC21<0,\"-\",+PPMT(返済条件入力!$C$8/12,G21,返済条件入力!$C$10*12,返済条件入力!$C$6))","v":-843830.38292196998},-216824.76946878247,null,116,{"$f":"IF(AB21<0,\"-\",+返済条件入力!$C$15)","v":-1060655.1523907525},{"$f":"IF(AB21<0,\"-\",+PPMT(返済条件入力!$C$8/12,L21,返済条件入力!$C$10*12,返済条件入力!$C$6))","v":-1038831.7191430175},-21823.433247734909,null,166,{"$f":"IF(AA21<0,\"-\",+返済条件入力!$C$15)","v":"-"},{"$f":"IF(AA21<0,\"-\",+PPMT(返済条件入力!$C$8/12,Q21,返済条件入力!$C$10*12,返済条件入力!$C$6))","v":"-"},"-",null,216,{"$f":"IF(Z21<0,\"-\",+返済条件入力!$C$15)","v":"-"},{"$f":"IF(Z21<0,\"-\",+PPMT(返済条件入力!$C$8/12,V21,返済条件入力!$C$10*12,返済条件入力!$C$6))","v":"-"},"-",-96,-46,4,54,104]
[null,17,{"$f":"IF(AD21<0,\"-\",+返済条件入力!$C$15)","v":-1060655.1523907525},{"$f":"IF(AD21<0,\"-\",+PPMT(返済条件入力!$C$8/12,B22,返済条件入力!$C$10*12,返済条件入力!$C$6))","v":-688289.13844215591},-372366.01394859655,null,67,{"$f":"IF(AC22<0,\"-\",+返済条件入力!$C$15)","v":-1060655.1523907525},{"$f":"IF(AC22<0,\"-\",+PPMT(返済条件入力!$C$8/12,G22,返済条件入力!$C$10*12,返済条件入力!$C$6))","v":-847346.34285081155},-213308.80953994091,null,117,{"$f":"IF(AB22<0,\"-\",+返済条件入力!$C$15)","v":-1060655.1523907525},{"$f":"IF(AB22<0,\"-\",+PPMT(返済条件入力!$C$8/12,L22,返済条件入力!$C$10*12,返済条件入力!$C$6))","v":-1043160.1846394468},-17494.967751305667,null,167,{"$f":"IF(AA22<0,\"-\",+返済条件入力!$C$15)","v":"-"},{"$f":"IF(AA22<0,\"-\",+PPMT(返済条件入力!$C$8/12,Q22,返済条件入力!$C$10*12,返済条件入力!$C$6))","v":"-"},"-",null,217,{"$f":"IF(Z22<0,\"-\",+返済条件入力!$C$15)","v":"-"},{"$f":"IF(Z22<0,\"-\",+PPMT(返済条件入力!$C$8/12,V22,返済条件入力!$C$10*12,返済条件入力!$C$6))","v":"-"},"-",-97,-47,3,53,103]
[null,18,{"$f":"IF(AD22<0,\"-\",+返済条件入力!$C$15)","v":-1060655.1523907525},{"$f":"IF(AD22<0,\"-\",+PPMT(返済条件入力!$C$8/12,B23,返済条件入力!$C$10*12,返済条件入力!$C$6))","v":-691157.0098523316},-369498.14253842086,null,68,{"$f":"IF(AC23<0,\"-\",+返済条件入力!$C$15)","v":-1060655.1523907525},{"$f":"IF(AC23<0,\"-\",+PPMT(返済条件入力!$C$8/12,G23,返済条件入力!$C$10*12,返済条件入力!$C$6))","v":-850876.95261268981},-209778.19977806264,null,118,{"$f":"IF(AB23<0,\"-\",+返済条件入力!$C$15)","v":-1060655.1523907525},{"$f":"IF(AB23<0,\"-\",+PPMT(返済条件入力!$C$8/12,L23,返済条件入力!$C$10*12,返済条件入力!$C$6))","v":-1047506.6854087777},-13148.46698197478,null,168,{"$f":"IF(AA23<0,\"-\",+返済条件入力!$C$15)","v":"-"},{"$f":"IF(AA23<0,\"-\",+PPMT(返済条件入力!$C$8/12,Q23,返済条件入力!$C$10*12,返済条件入力!$C$6))","v":"-"},"-",null,218,{"$f":"IF(Z23<0,\"-\",+返済条件入力!$C$15)","v":"-"},{"$f":"IF(Z23<0,\"-\",+PPMT(返済条件入力!$C$8/12,V23,返済条件入力!$C$10*12,返済条件入力!$C$6))","v":"-"},"-",-98,-48,2,52,102]
[null,19,{"$f":"IF(AD23<0,\"-\",+返済条件入力!$C$15)","v":-1060655.1523907525},{"$f":"IF(AD23<0,\"-\",+PPMT(返済条件入力!$C$8/12,B24,返済条件入力!$C$10*12,返済条件入力!$C$6))","v":-694036.83072671632},-366618.32166403614,null,69,{"$f":"IF(AC24<0,\"-\",+返済条件入力!$C$15)","v":-1060655.1523907525},{"$f":"IF(AC24<0,\"-\",+PPMT(返済条件入力!$C$8/12,G24,返済条件入力!$C$10*12,返済条件入力!$C$6))","v":-854422.27324857609},-206232.87914217636,null,119,{"$f":"IF(AB24<0,\"-\",+返済条件入力!$C$15)","v":-1060655.1523907525},{"$f":"IF(AB24<0,\"-\",+PPMT(返済条件入力!$C$8/12,L24,返済条件入力!$C$10*12,返済条件入力!$C$6))","v":-1051871.2965979811},-8783.8557927713264,null,169,{"$f":"IF(AA24<0,\"-\",+返済条件入力!$C$15)","v":"-"},{"$f":"IF(AA24<0,\"-\",+PPMT(返済条件入力!$C$8/12,Q24,返済条件入力!$C$10*12,返済条件入力!$C$6))","v":"-"},"-",null,219,{"$f":"IF(Z24<0,\"-\",+返済条件入力!$C$15)","v":"-"},{"$f":"IF(Z24<0,\"-\",+PPMT(返済条件入力!$C$8/12,V24,返済条件入力!$C$10*12,返済条件入力!$C$6))","v":"-"},"-",-99,-49,1,51,101]
[null,20,{"$f":"IF(AD24<0,\"-\",+返済条件入力!$C$15)","v":-1060655.1523907525},{"$f":"IF(AD24<0,\"-\",+PPMT(返済条件入力!$C$8/12,B25,返済条件入力!$C$10*12,返済条件入力!$C$6))","v":-696928.65085474425},-363726.5015360082,null,70,{"$f":"IF(AC25<0,\"-\",+返済条件入力!$C$15)","v":-1060655.1523907525},{"$f":"IF(AC25<0,\"-\",+PPMT(返済条件入力!$C$8/12,G25,返済条件入力!$C$10*12,返済条件入力!$C$6))","v":-857982.36605377856},-202672.78633697389,null,120,{"$f":"IF(AB25<0,\"-\",+返済条件入力!$C$15)","v":-1060655.1523907525},{"$f":"IF(AB25<0,\"-\",+PPMT(返済条件入力!$C$8/12,L25,返済条件入力!$C$10*12,返済条件入力!$C$6))","v":-1056254.0936671393},-4401.0587236131541,null,170,{"$f":"IF(AA25<0,\"-\",+返済条件入力!$C$15)","v":"-"},{"$f":"IF(AA25<0,\"-\",+PPMT(返済条件入力!$C$8/12,Q25,返済条件入力!$C$10*12,返済条件入力!$C$6))","v":"-"},"-",null,220,{"$f":"IF(Z25<0,\"-\",+返済条件入力!$C$15)","v":"-"},{"$f":"IF(Z25<0,\"-\",+PPMT(返済条件入力!$C$8/12,V25,返済条件入力!$C$10*12,返済条件入力!$C$6))","v":"-"},"-",-100,-50,0,50,100]
[null,21,{"$f":"IF(AD25<0,\"-\",+返済条件入力!$C$15)","v":-1060655.1523907525},{"$f":"IF(AD25<0,\"-\",+PPMT(返済条件入力!$C$8/12,B26,返済条件入力!$C$10*12,返済条件入力!$C$6))","v":-699832.52023330564},-360822.63215744682,null,71,{"$f":"IF(AC26<0,\"-\",+返済条件入力!$C$15)","v":-1060655.1523907525},{"$f":"IF(AC26<0,\"-\",+PPMT(返済条件入力!$C$8/12,G26,返済条件入力!$C$10*12,返済条件入力!$C$6))","v":-861557.29257900268},-199097.85981174977,null,121,{"$f":"IF(AB26<0,\"-\",+返済条件入力!$C$15)","v":"-"},{"$f":"IF(AB26<0,\"-\",+PPMT(返済条件入力!$C$8/12,L26,返済条件入力!$C$10*12,返済条件入力!$C$6))","v":"-"},"-",null,171,{"$f":"IF(AA26<0,\"-\",+返済条件入力!$C$15)","v":"-"},{"$f":"IF(AA26<0,\"-\",+PPMT(返済条件入力!$C$8/12,Q26,返済条件入力!$C$10*12,返済条件入力!$C$6))","v":"-"},"-",null,221,{"$f":"IF(Z26<0,\"-\",+返済条件入力!$C$15)","v":"-"},{"$f":"IF(Z26<0,\"-\",+PPMT(返済条件入力!$C$8/12,V26,返済条件入力!$C$10*12,返済条件入力!$C$6))","v":"-"},"-",-101,-51,-1,49,99]
[null,22,{"$f":"IF(AD26<0,\"-\",+返済条件入力!$C$15)","v":-1060655.1523907525},{"$f":"IF(AD26<0,\"-\",+PPMT(返済条件入力!$C$8/12,B27,返済条件入力!$C$10*12,返済条件入力!$C$6))","v":-702748.48906761105},-357906.6633231414,null,72,{"$f":"IF(AC27<0,\"-\",+返済条件入力!$C$15)","v":-1060655.1523907525},{"$f":"IF(AC27<0,\"-\",+PPMT(返済条件入力!$C$8/12,G27,返済条件入力!$C$10*12,返済条件入力!$C$6))","v":-865147.11463141511},-195508.03775933734,null,122,{"$f":"IF(AB27<0,\"-\",+返済条件入力!$C$15)","v":"-"},{"$f":"IF(AB27<0,\"-\",+PPMT(返済条件入力!$C$8/12,L27,返済条件入力!$C$10*12,返済条件入力!$C$6))","v":"-"},"-",null,172,{"$f":"IF(AA27<0,\"-\",+返済条件入力!$C$15)","v":"-"},{"$f":"IF(AA27<0,\"-\",+PPMT(返済条件入力!$C$8/12,Q27,返済条件入力!$C$10*12,返済条件入力!$C$6))","v":"-"},"-",null,222,{"$f":"IF(Z27<0,\"-\",+返済条件入力!$C$15)","v":"-"},{"$f":"IF(Z27<0,\"-\",+PPMT(返済条件入力!$C$8/12,V27,返済条件入力!$C$10*12,返済条件入力!$C$6))","v":"-"},"-",-102,-52,-2,48,98]
[null,23,{"$f":"IF(AD27<0,\"-\",+返済条件入力!$C$15)","v":-1060655.1523907525},{"$f":"IF(AD27<0,\"-\",+PPMT(返済条件入力!$C$8/12,B28,返済条件入力!$C$10*12,返済条件入力!$C$6))","v":-705676.60777205951},-354978.54461869295,null,73,{"$f":"IF(AC28<0,\"-\",+返済条件入力!$C$15)","v":-1060655.1523907525},{"$f":"IF(AC28<0,\"-\",+PPMT(返済条件入力!$C$8/12,G28,返済条件入力!$C$10*12,返済条件入力!$C$6))","v":-868751.89427571266},-191903.25811503979,null,123,{"$f":"IF(AB28<0,\"-\",+返済条件入力!$C$15)","v":"-"},{"$f":"IF(AB28<0,\"-\",+PPMT(返済条件入力!$C$8/12,L28,返済条件入力!$C$10*12,返済条件入力!$C$6))","v":"-"},"-",null,173,{"$f":"IF(AA28<0,\"-\",+返済条件入力!$C$15)","v":"-"},{"$f":"IF(AA28<0,\"-\",+PPMT(返済条件入力!$C$8/12,Q28,返済条件入力!$C$10*12,返済条件入力!$C$6))","v":"-"},"-",null,223,{"$f":"IF(Z28<0,\"-\",+返済条件入力!$C$15)","v":"-"},{"$f":"IF(Z28<0,\"-\",+PPMT(返済条件入力!$C$8/12,V28,返済条件入力!$C$10*12,返済条件入力!$C$6))","v":"-"},"-",-103,-53,-3,47,97]
[null,24,{"$f":"IF(AD28<0,\"-\",+返済条件入力!$C$15)","v":-1060655.1523907525},{"$f":"IF(AD28<0,\"-\",+PPMT(返済条件入力!$C$8/12,B29,返済条件入力!$C$10*12,返済条件入力!$C$6))","v":-708616.92697110982},-352038.22541964264,null,74,{"$f":"IF(AC29<0,\"-\",+返済条件入力!$C$15)","v":-1060655.1523907525},{"$f":"IF(AC29<0,\"-\",+PPMT(返済条件入力!$C$8/12,G29,返済条件入力!$C$10*12,返済条件入力!$C$6))","v":-872371.6938351948},-188283.45855555765,null,124,{"$f":"IF(AB29<0,\"-\",+返済条件入力!$C$15)","v":"-"},{"$f":"IF(AB29<0,\"-\",+PPMT(返済条件入力!$C$8/12,L29,返済条件入力!$C$10*12,返済条件入力!$C$6))","v":"-"},"-",null,174,{"$f":"IF(AA29<0,\"-\",+返済条件入力!$C$15)","v":"-"},{"$f":"IF(AA29<0,\"-\",+PPMT(返済条件入力!$C$8/12,Q29,返済条件入力!$C$10*12,返済条件入力!$C$6))","v":"-"},"-",null,224,{"$f":"IF(Z29<0,\"-\",+返済条件入力!$C$15)","v":"-"},{"$f":"IF(Z29<0,\"-\",+PPMT(返済条件入力!$C$8/12,V29,返済条件入力!$C$10*12,返済条件入力!$C$6))","v":"-"},"-",-104,-54,-4,46,96]
[null,25,{"$f":"IF(AD29<0,\"-\",+返済条件入力!$C$15)","v":-1060655.1523907525},{"$f":"IF(AD29<0,\"-\",+PPMT(返済条件入力!$C$8/12,B30,返済条件入力!$C$10*12,返済条件入力!$C$6))","v":-711569.49750015605},-349085.6548905964,null,75,{"$f":"IF(AC30<0,\"-\",+返済条件入力!$C$15)","v":-1060655.1523907525},{"$f":"IF(AC30<0,\"-\",+PPMT(返済条件入力!$C$8/12,G30,返済条件入力!$C$10*12,返済条件入力!$C$6))","v":-876006.57589284156},-184648.57649791089,null,125,{"$f":"IF(AB30<0,\"-\",+返済条件入力!$C$15)","v":"-"},{"$f":"IF(AB30<0,\"-\",+PPMT(返済条件入力!$C$8/12,L30,返済条件入力!$C$10*12,返済条件入力!$C$6))","v":"-"},"-",null,175,{"$f":"IF(AA30<0,\"-\",+返済条件入力!$C$15)","v":"-"},{"$f":"IF(AA30<0,\"-\",+PPMT(返済条件入力!$C$8/12,Q30,返済条件入力!$C$10*12,返済条件入力!$C$6))","v":"-"},"-",null,225,{"$f":"IF(Z30<0,\"-\",+返済条件入力!$C$15)","v":"-"},{"$f":"IF(Z30<0,\"-\",+PPMT(返済条件入力!$C$8/12,V30,返済条件入力!$C$10*12,返済条件入力!$C$6))","v":"-"},"-",-105,-55,-5,45,95]
[null,26,{"$f":"IF(AD30<0,\"-\",+返済条件入力!$C$15)","v":-1060655.1523907525},{"$f":"IF(AD30<0,\"-\",+PPMT(返済条件入力!$C$8/12,B31,返済条件入力!$C$10*12,返済条件入力!$C$6))","v":-714534.3704064067},-346120.78198434575,null,76,{"$f":"IF(AC31<0,\"-\",+返済条件入力!$C$15)","v":-1060655.1523907525},{"$f":"IF(AC31<0,\"-\",+PPMT(返済条件入力!$C$8/12,G31,返済条件入力!$C$10*12,返済条件入力!$C$6))","v":-879656.6032923949},-180998.54909835756,null,126,{"$f":"IF(AB31<0,\"-\",+返済条件入力!$C$15)","v":"-"},{"$f":"IF(AB31<0,\"-\",+PPMT(返済条件入力!$C$8/12,L31,返済条件入力!$C$10*12,返済条件入力!$C$6))","v":"-"},"-",null,176,{"$f":"IF(AA31<0,\"-\",+返済条件入力!$C$15)","v":"-"},{"$f":"IF(AA31<0,\"-\",+PPMT(返済条件入力!$C$8/12,Q31,返済条件入力!$C$10*12,返済条件入力!$C$6))","v":"-"},"-",null,226,{"$f":"IF(Z31<0,\"-\",+返済条件入力!$C$15)","v":"-"},{"$f":"IF(Z31<0,\"-\",+PPMT(返済条件入力!$C$8/12,V31,返済条件入力!$C$10*12,返済条件入力!$C$6))","v":"-"},"-",-106,-56,-6,44,94]
[null,27,{"$f":"IF(AD31<0,\"-\",+返済条件入力!$C$15)","v":-1060655.1523907525},{"$f":"IF(AD31<0,\"-\",+PPMT(返済条件入力!$C$8/12,B32,返済条件入力!$C$10*12,返済条件入力!$C$6))","v":-717511.59694976674},-343143.55544098571,null,77,{"$f":"IF(AC32<0,\"-\",+返済条件入力!$C$15)","v":-1060655.1523907525},{"$f":"IF(AC32<0,\"-\",+PPMT(返済条件入力!$C$8/12,G32,返済条件入力!$C$10*12,返済条件入力!$C$6))","v":-883321.83913944662},-177333.31325130584,null,127,{"$f":"IF(AB32<0,\"-\",+返済条件入力!$C$15)","v":"-"},{"$f":"IF(AB32<0,\"-\",+PPMT(返済条件入力!$C$8/12,L32,返済条件入力!$C$10*12,返済条件入力!$C$6))","v":"-"},"-",null,177,{"$f":"IF(AA32<0,\"-\",+返済条件入力!$C$15)","v":"-"},{"$f":"IF(AA32<0,\"-\",+PPMT(返済条件入力!$C$8/12,Q32,返済条件入力!$C$10*12,返済条件入力!$C$6))","v":"-"},"-",null,227,{"$f":"IF(Z32<0,\"-\",+返済条件入力!$C$15)","v":"-"},{"$f":"IF(Z32<0,\"-\",+PPMT(返済条件入力!$C$8/12,V32,返済条件入力!$C$10*12,返済条件入力!$C$6))","v":"-"},"-",-107,-57,-7,43,93]
[null,28,{"$f":"IF(AD32<0,\"-\",+返済条件入力!$C$15)","v":-1060655.1523907525},{"$f":"IF(AD32<0,\"-\",+PPMT(返済条件入力!$C$8/12,B33,返済条件入力!$C$10*12,返済条件入力!$C$6))","v":-720501.22860372404},-340153.92378702841,null,78,{"$f":"IF(AC33<0,\"-\",+返済条件入力!$C$15)","v":-1060655.1523907525},{"$f":"IF(AC33<0,\"-\",+PPMT(返済条件入力!$C$8/12,G33,返済条件入力!$C$10*12,返済条件入力!$C$6))","v":-887002.34680252767},-173652.80558822479,null,128,{"$f":"IF(AB33<0,\"-\",+返済条件入力!$C$15)","v":"-"},{"$f":"IF(AB33<0,\"-\",+PPMT(返済条件入力!$C$8/12,L33,返済条件入力!$C$10*12,返済条件入力!$C$6))","v":"-"},"-",null,178,{"$f":"IF(AA33<0,\"-\",+返済条件入力!$C$15)","v":"-"},{"$f":"IF(AA33<0,\"-\",+PPMT(返済条件入力!$C$8/12,Q33,返済条件入力!$C$10*12,返済条件入力!$C$6))","v":"-"},"-",null,228,{"$f":"IF(Z33<0,\"-\",+返済条件入力!$C$15)","v":"-"},{"$f":"IF(Z33<0,\"-\",+PPMT(返済条件入力!$C$8/12,V33,返済条件入力!$C$10*12,返済条件入力!$C$6))","v":"-"},"-",-108,-58,-8,42,92]
[null,29,{"$f":"IF(AD33<0,\"-\",+返済条件入力!$C$15)","v":-1060655.1523907525},{"$f":"IF(AD33<0,\"-\",+PPMT(返済条件入力!$C$8/12,B34,返済条件入力!$C$10*12,返済条件入力!$C$6))","v":-723503.31705623958},-337151.83533451287,null,79,{"$f":"IF(AC34<0,\"-\",+返済条件入力!$C$15)","v":-1060655.1523907525},{"$f":"IF(AC34<0,\"-\",+PPMT(返済条件入力!$C$8/12,G34,返済条件入力!$C$10*12,返済条件入力!$C$6))","v":-890698.18991420488},-169956.96247654757,null,129,{"$f":"IF(AB34<0,\"-\",+返済条件入力!$C$15)","v":"-"},{"$f":"IF(AB34<0,\"-\",+PPMT(返済条件入力!$C$8/12,L34,返済条件入力!$C$10*12,返済条件入力!$C$6))","v":"-"},"-",null,179,{"$f":"IF(AA34<0,\"-\",+返済条件入力!$C$15)","v":"-"},{"$f":"IF(AA34<0,\"-\",+PPMT(返済条件入力!$C$8/12,Q34,返済条件入力!$C$10*12,返済条件入力!$C$6))","v":"-"},"-",null,229,{"$f":"IF(Z34<0,\"-\",+返済条件入力!$C$15)","v":"-"},{"$f":"IF(Z34<0,\"-\",+PPMT(返済条件入力!$C$8/12,V34,返済条件入力!$C$10*12,返済条件入力!$C$6))","v":"-"},"-",-109,-59,-9,41,91]
[null,30,{"$f":"IF(AD34<0,\"-\",+返済条件入力!$C$15)","v":-1060655.1523907525},{"$f":"IF(AD34<0,\"-\",+PPMT(返済条件入力!$C$8/12,B35,返済条件入力!$C$10*12,返済条件入力!$C$6))","v":-726517.91421064059},-334137.23818011186,null,80,{"$f":"IF(AC35<0,\"-\",+返済条件入力!$C$15)","v":-1060655.1523907525},{"$f":"IF(AC35<0,\"-\",+PPMT(返済条件入力!$C$8/12,G35,返済条件入力!$C$10*12,返済条件入力!$C$6))","v":-894409.43237218075},-166245.72001857171,null,130,{"$f":"IF(AB35<0,\"-\",+返済条件入力!$C$15)","v":"-"},{"$f":"IF(AB35<0,\"-\",+PPMT(返済条件入力!$C$8/12,L35,返済条件入力!$C$10*12,返済条件入力!$C$6))","v":"-"},"-",null,180,{"$f":"IF(AA35<0,\"-\",+返済条件入力!$C$15)","v":"-"},{"$f":"IF(AA35<0,\"-\",+PPMT(返済条件入力!$C$8/12,Q35,返済条件入力!$C$10*12,返済条件入力!$C$6))","v":"-"},"-",null,230,{"$f":"IF(Z35<0,\"-\",+返済条件入力!$C$15)","v":"-"},{"$f":"IF(Z35<0,\"-\",+PPMT(返済条件入力!$C$8/12,V35,返済条件入力!$C$10*12,返済条件入力!$C$6))","v":"-"},"-",-110,-60,-10,40,90]
[null,31,{"$f":"IF(AD35<0,\"-\",+返済条件入力!$C$15)","v":-1060655.1523907525},{"$f":"IF(AD35<0,\"-\",+PPMT(返済条件入力!$C$8/12,B36,返済条件入力!$C$10*12,返済条件入力!$C$6))","v":-729545.07218651823},-331110.08020423423,null,81,{"$f":"IF(AC36<0,\"-\",+返済条件入力!$C$15)","v":-1060655.1523907525},{"$f":"IF(AC36<0,\"-\",+PPMT(返済条件入力!$C$8/12,G36,返済条件入力!$C$10*12,返済条件入力!$C$6))","v":-898136.13834039809},-162519.01405035437,null,131,{"$f":"IF(AB36<0,\"-\",+返済条件入力!$C$15)","v":"-"},{"$f":"IF(AB36<0,\"-\",+PPMT(返済条件入力!$C$8/12,L36,返済条件入力!$C$10*12,返済条件入力!$C$6))","v":"-"},"-",null,181,{"$f":"IF(AA36<0,\"-\",+返済条件入力!$C$15)","v":"-"},{"$f":"IF(AA36<0,\"-\",+PPMT(返済条件入力!$C$8/12,Q36,返済条件入力!$C$10*12,返済条件入力!$C$6))","v":"-"},"-",null,231,{"$f":"IF(Z36<0,\"-\",+返済条件入力!$C$15)","v":"-"},{"$f":"IF(Z36<0,\"-\",+PPMT(返済条件入力!$C$8/12,V36,返済条件入力!$C$10*12,返済条件入力!$C$6))","v":"-"},"-",-111,-61,-11,39,89]
[null,32,{"$f":"IF(AD36<0,\"-\",+返済条件入力!$C$15)","v":-1060655.1523907525},{"$f":"IF(AD36<0,\"-\",+PPMT(返済条件入力!$C$8/12,B37,返済条件入力!$C$10*12,返済条件入力!$C$6))","v":-732584.84332062886},-328070.30907012359,null,82,{"$f":"IF(AC37<0,\"-\",+返済条件入力!$C$15)","v":-1060655.1523907525},{"$f":"IF(AC37<0,\"-\",+PPMT(返済条件入力!$C$8/12,G37,返済条件入力!$C$10*12,返済条件入力!$C$6))","v":-901878.37225014973},-158776.78014060273,null,132,{"$f":"IF(AB37<0,\"-\",+返済条件入力!$C$15)","v":"-"},{"$f":"IF(AB37<0,\"-\",+PPMT(返済条件入力!$C$8/12,L37,返済条件入力!$C$10*12,返済条件入力!$C$6))","v":"-"},"-",null,182,{"$f":"IF(AA37<0,\"-\",+返済条件入力!$C$15)","v":"-"},{"$f":"IF(AA37<0,\"-\",+PPMT(返済条件入力!$C$8/12,Q37,返済条件入力!$C$10*12,返済条件入力!$C$6))","v":"-"},"-",null,232,{"$f":"IF(Z37<0,\"-\",+返済条件入力!$C$15)","v":"-"},{"$f":"IF(Z37<0,\"-\",+PPMT(返済条件入力!$C$8/12,V37,返済条件入力!$C$10*12,返済条件入力!$C$6))","v":"-"},"-",-112,-62,-12,38,88]
[null,33,{"$f":"IF(AD37<0,\"-\",+返済条件入力!$C$15)","v":-1060655.1523907525},{"$f":"IF(AD37<0,\"-\",+PPMT(返済条件入力!$C$8/12,B38,返済条件入力!$C$10*12,返済条件入力!$C$6))","v":-735637.28016779805},-325017.87222295441,null,83,{"$f":"IF(AC38<0,\"-\",+返済条件入力!$C$15)","v":-1060655.1523907525},{"$f":"IF(AC38<0,\"-\",+PPMT(返済条件入力!$C$8/12,G38,返済条件入力!$C$10*12,返済条件入力!$C$6))","v":-905636.19880119211},-155018.95358956035,null,133,{"$f":"IF(AB38<0,\"-\",+返済条件入力!$C$15)","v":"-"},{"$f":"IF(AB38<0,\"-\",+PPMT(返済条件入力!$C$8/12,L38,返済条件入力!$C$10*12,返済条件入力!$C$6))","v":"-"},"-",null,183,{"$f":"IF(AA38<0,\"-\",+返済条件入力!$C$15)","v":"-"},{"$f":"IF(AA38<0,\"-\",+PPMT(返済条件入力!$C$8/12,Q38,返済条件入力!$C$10*12,返済条件入力!$C$6))","v":"-"},"-",null,233,{"$f":"IF(Z38<0,\"-\",+返済条件入力!$C$15)","v":"-"},{"$f":"IF(Z38<0,\"-\",+PPMT(返済条件入力!$C$8/12,V38,返済条件入力!$C$10*12,返済条件入力!$C$6))","v":"-"},"-",-113,-63,-13,37,87]
[null,34,{"$f":"IF(AD38<0,\"-\",+返済条件入力!$C$15)","v":-1060655.1523907525},{"$f":"IF(AD38<0,\"-\",+PPMT(返済条件入力!$C$8/12,B39,返済条件入力!$C$10*12,返済条件入力!$C$6))","v":-738702.43550183054},-321952.71688892192,null,84,{"$f":"IF(AC39<0,\"-\",+返済条件入力!$C$15)","v":-1060655.1523907525},{"$f":"IF(AC39<0,\"-\",+PPMT(返済条件入力!$C$8/12,G39,返済条件入力!$C$10*12,返済条件入力!$C$6))","v":-909409.68296286359},-151245.46942788886,null,134,{"$f":"IF(AB39<0,\"-\",+返済条件入力!$C$15)","v":"-"},{"$f":"IF(AB39<0,\"-\",+PPMT(返済条件入力!$C$8/12,L39,返済条件入力!$C$10*12,返済条件入力!$C$6))","v":"-"},"-",null,184,{"$f":"IF(AA39<0,\"-\",+返済条件入力!$C$15)","v":"-"},{"$f":"IF(AA39<0,\"-\",+PPMT(返済条件入力!$C$8/12,Q39,返済条件入力!$C$10*12,返済条件入力!$C$6))","v":"-"},"-",null,234,{"$f":"IF(Z39<0,\"-\",+返済条件入力!$C$15)","v":"-"},{"$f":"IF(Z39<0,\"-\",+PPMT(返済条件入力!$C$8/12,V39,返済条件入力!$C$10*12,返済条件入力!$C$6))","v":"-"},"-",-114,-64,-14,36,86]
[null,35,{"$f":"IF(AD39<0,\"-\",+返済条件入力!$C$15)","v":-1060655.1523907525},{"$f":"IF(AD39<0,\"-\",+PPMT(返済条件入力!$C$8/12,B40,返済条件入力!$C$10*12,返済条件入力!$C$6))","v":-741780.36231642158},-318874.79007433087,null,85,{"$f":"IF(AC40<0,\"-\",+返済条件入力!$C$15)","v":-1060655.1523907525},{"$f":"IF(AC40<0,\"-\",+PPMT(返済条件入力!$C$8/12,G40,返済条件入力!$C$10*12,返済条件入力!$C$6))","v":-913198.88997520891},-147456.26241554355,null,135,{"$f":"IF(AB40<0,\"-\",+返済条件入力!$C$15)","v":"-"},{"$f":"IF(AB40<0,\"-\",+PPMT(返済条件入力!$C$8/12,L40,返済条件入力!$C$10*12,返済条件入力!$C$6))","v":"-"},"-",null,185,{"$f":"IF(AA40<0,\"-\",+返済条件入力!$C$15)","v":"-"},{"$f":"IF(AA40<0,\"-\",+PPMT(返済条件入力!$C$8/12,Q40,返済条件入力!$C$10*12,返済条件入力!$C$6))","v":"-"},"-",null,235,{"$f":"IF(Z40<0,\"-\",+返済条件入力!$C$15)","v":"-"},{"$f":"IF(Z40<0,\"-\",+PPMT(返済条件入力!$C$8/12,V40,返済条件入力!$C$10*12,返済条件入力!$C$6))","v":"-"},"-",-115,-65,-15,35,85]
[null,36,{"$f":"IF(AD40<0,\"-\",+返済条件入力!$C$15)","v":-1060655.1523907525},{"$f":"IF(AD40<0,\"-\",+PPMT(返済条件入力!$C$8/12,B41,返済条件入力!$C$10*12,返済条件入力!$C$6))","v":-744871.11382607336},-315784.0385646791,null,86,{"$f":"IF(AC41<0,\"-\",+返済条件入力!$C$15)","v":-1060655.1523907525},{"$f":"IF(AC41<0,\"-\",+PPMT(返済条件入力!$C$8/12,G41,返済条件入力!$C$10*12,返済条件入力!$C$6))","v":-917003.8853501057},-143651.26704064675,null,136,{"$f":"IF(AB41<0,\"-\",+返済条件入力!$C$15)","v":"-"},{"$f":"IF(AB41<0,\"-\",+PPMT(返済条件入力!$C$8/12,L41,返済条件入力!$C$10*12,返済条件入力!$C$6))","v":"-"},"-",null,186,{"$f":"IF(AA41<0,\"-\",+返済条件入力!$C$15)","v":"-"},{"$f":"IF(AA41<0,\"-\",+PPMT(返済条件入力!$C$8/12,Q41,返済条件入力!$C$10*12,返済条件入力!$C$6))","v":"-"},"-",null,236,{"$f":"IF(Z41<0,\"-\",+返済条件入力!$C$15)","v":"-"},{"$f":"IF(Z41<0,\"-\",+PPMT(返済条件入力!$C$8/12,V41,返済条件入力!$C$10*12,返済条件入力!$C$6))","v":"-"},"-",-116,-66,-16,34,84]
[null,37,{"$f":"IF(AD41<0,\"-\",+返済条件入力!$C$15)","v":-1060655.1523907525},{"$f":"IF(AD41<0,\"-\",+PPMT(返済条件入力!$C$8/12,B42,返済条件入力!$C$10*12,返済条件入力!$C$6))","v":-747974.7434670151},-312680.40892373736,null,87,{"$f":"IF(AC42<0,\"-\",+返済条件入力!$C$15)","v":-1060655.1523907525},{"$f":"IF(AC42<0,\"-\",+PPMT(返済条件入力!$C$8/12,G42,返済条件入力!$C$10*12,返済条件入力!$C$6))","v":-920824.73487239773},-139830.41751835472,null,137,{"$f":"IF(AB42<0,\"-\",+返済条件入力!$C$15)","v":"-"},{"$f":"IF(AB42<0,\"-\",+PPMT(返済条件入力!$C$8/12,L42,返済条件入力!$C$10*12,返済条件入力!$C$6))","v":"-"},"-",null,187,{"$f":"IF(AA42<0,\"-\",+返済条件入力!$C$15)","v":"-"},{"$f":"IF(AA42<0,\"-\",+PPMT(返済条件入力!$C$8/12,Q42,返済条件入力!$C$10*12,返済条件入力!$C$6))","v":"-"},"-",null,237,{"$f":"IF(Z42<0,\"-\",+返済条件入力!$C$15)","v":"-"},{"$f":"IF(Z42<0,\"-\",+PPMT(返済条件入力!$C$8/12,V42,返済条件入力!$C$10*12,返済条件入力!$C$6))","v":"-"},"-",-117,-67,-17,33,83]
[null,38,{"$f":"IF(AD42<0,\"-\",+返済条件入力!$C$15)","v":-1060655.1523907525},{"$f":"IF(AD42<0,\"-\",+PPMT(返済条件入力!$C$8/12,B43,返済条件入力!$C$10*12,返済条件入力!$C$6))","v":-751091.30489812791},-309563.84749262454,null,88,{"$f":"IF(AC43<0,\"-\",+返済条件入力!$C$15)","v":-1060655.1523907525},{"$f":"IF(AC43<0,\"-\",+PPMT(返済条件入力!$C$8/12,G43,返済条件入力!$C$10*12,返済条件入力!$C$6))","v":-924661.50460103282},-135993.64778971963,null,138,{"$f":"IF(AB43<0,\"-\",+返済条件入力!$C$15)","v":"-"},{"$f":"IF(AB43<0,\"-\",+PPMT(返済条件入力!$C$8/12,L43,返済条件入力!$C$10*12,返済条件入力!$C$6))","v":"-"},"-",null,188,{"$f":"IF(AA43<0,\"-\",+返済条件入力!$C$15)","v":"-"},{"$f":"IF(AA43<0,\"-\",+PPMT(返済条件入力!$C$8/12,Q43,返済条件入力!$C$10*12,返済条件入力!$C$6))","v":"-"},"-",null,238,{"$f":"IF(Z43<0,\"-\",+返済条件入力!$C$15)","v":"-"},{"$f":"IF(Z43<0,\"-\",+PPMT(返済条件入力!$C$8/12,V43,返済条件入力!$C$10*12,返済条件入力!$C$6))","v":"-"},"-",-118,-68,-18,32,82]
[null,39,{"$f":"IF(AD43<0,\"-\",+返済条件入力!$C$15)","v":-1060655.1523907525},{"$f":"IF(AD43<0,\"-\",+PPMT(返済条件入力!$C$8/12,B44,返済条件入力!$C$10*12,返済条件入力!$C$6))","v":-754220.85200186993},-306434.30038888252,null,89,{"$f":"IF(AC44<0,\"-\",+返済条件入力!$C$15)","v":-1060655.1523907525},{"$f":"IF(AC44<0,\"-\",+PPMT(返済条件入力!$C$8/12,G44,返済条件入力!$C$10*12,返済条件入力!$C$6))","v":-928514.26087020373},-132140.89152054873,null,139,{"$f":"IF(AB44<0,\"-\",+返済条件入力!$C$15)","v":"-"},{"$f":"IF(AB44<0,\"-\",+PPMT(返済条件入力!$C$8/12,L44,返済条件入力!$C$10*12,返済条件入力!$C$6))","v":"-"},"-",null,189,{"$f":"IF(AA44<0,\"-\",+返済条件入力!$C$15)","v":"-"},{"$f":"IF(AA44<0,\"-\",+PPMT(返済条件入力!$C$8/12,Q44,返済条件入力!$C$10*12,返済条件入力!$C$6))","v":"-"},"-",null,239,{"$f":"IF(Z44<0,\"-\",+返済条件入力!$C$15)","v":"-"},{"$f":"IF(Z44<0,\"-\",+PPMT(返済条件入力!$C$8/12,V44,返済条件入力!$C$10*12,返済条件入力!$C$6))","v":"-"},"-",-119,-69,-19,31,81]
[null,40,{"$f":"IF(AD44<0,\"-\",+返済条件入力!$C$15)","v":-1060655.1523907525},{"$f":"IF(AD44<0,\"-\",+PPMT(返済条件入力!$C$8/12,B45,返済条件入力!$C$10*12,返済条件入力!$C$6))","v":-757363.43888521101},-303291.71350554144,null,90,{"$f":"IF(AC45<0,\"-\",+返済条件入力!$C$15)","v":-1060655.1523907525},{"$f":"IF(AC45<0,\"-\",+PPMT(返済条件入力!$C$8/12,G45,返済条件入力!$C$10*12,返済条件入力!$C$6))","v":-932383.07029049622},-128272.08210025623,null,140,{"$f":"IF(AB45<0,\"-\",+返済条件入力!$C$15)","v":"-"},{"$f":"IF(AB45<0,\"-\",+PPMT(返済条件入力!$C$8/12,L45,返済条件入力!$C$10*12,返済条件入力!$C$6))","v":"-"},"-",null,190,{"$f":"IF(AA45<0,\"-\",+返済条件入力!$C$15)","v":"-"},{"$f":"IF(AA45<0,\"-\",+PPMT(返済条件入力!$C$8/12,Q45,返済条件入力!$C$10*12,返済条件入力!$C$6))","v":"-"},"-",null,240,{"$f":"IF(Z45<0,\"-\",+返済条件入力!$C$15)","v":"-"},{"$f":"IF(Z45<0,\"-\",+PPMT(返済条件入力!$C$8/12,V45,返済条件入力!$C$10*12,返済条件入力!$C$6))","v":"-"},"-",-120,-70,-20,30,80]
[null,41,{"$f":"IF(AD45<0,\"-\",+返済条件入力!$C$15)","v":-1060655.1523907525},{"$f":"IF(AD45<0,\"-\",+PPMT(返済条件入力!$C$8/12,B46,返済条件入力!$C$10*12,返済条件入力!$C$6))","v":-760519.11988056626},-300136.0325101862,null,91,{"$f":"IF(AC46<0,\"-\",+返済条件入力!$C$15)","v":-1060655.1523907525},{"$f":"IF(AC46<0,\"-\",+PPMT(返済条件入力!$C$8/12,G46,返済条件入力!$C$10*12,返済条件入力!$C$6))","v":-936267.99975004001},-124387.15264071245,null,141,{"$f":"IF(AB46<0,\"-\",+返済条件入力!$C$15)","v":"-"},{"$f":"IF(AB46<0,\"-\",+PPMT(返済条件入力!$C$8/12,L46,返済条件入力!$C$10*12,返済条件入力!$C$6))","v":"-"},"-",null,191,{"$f":"IF(AA46<0,\"-\",+返済条件入力!$C$15)","v":"-"},{"$f":"IF(AA46<0,\"-\",+PPMT(返済条件入力!$C$8/12,Q46,返済条件入力!$C$10*12,返済条件入力!$C$6))","v":"-"},"-",null,241,{"$f":"IF(Z46<0,\"-\",+返済条件入力!$C$15)","v":"-"},{"$f":"IF(Z46<0,\"-\",+PPMT(返済条件入力!$C$8/12,V46,返済条件入力!$C$10*12,返済条件入力!$C$6))","v":"-"},"-",-121,-71,-21,29,79]
[null,42,{"$f":"IF(AD46<0,\"-\",+返済条件入力!$C$15)","v":-1060655.1523907525},{"$f":"IF(AD46<0,\"-\",+PPMT(返済条件入力!$C$8/12,B47,返済条件入力!$C$10*12,返済条件入力!$C$6))","v":-763687.94954673527},-296967.20284401719,null,92,{"$f":"IF(AC47<0,\"-\",+返済条件入力!$C$15)","v":-1060655.1523907525},{"$f":"IF(AC47<0,\"-\",+PPMT(返済条件入力!$C$8/12,G47,返済条件入力!$C$10*12,返済条件入力!$C$6))","v":-940169.11641566514},-120486.03597508732,null,142,{"$f":"IF(AB47<0,\"-\",+返済条件入力!$C$15)","v":"-"},{"$f":"IF(AB47<0,\"-\",+PPMT(返済条件入力!$C$8/12,L47,返済条件入力!$C$10*12,返済条件入力!$C$6))","v":"-"},"-",null,192,{"$f":"IF(AA47<0,\"-\",+返済条件入力!$C$15)","v":"-"},{"$f":"IF(AA47<0,\"-\",+PPMT(返済条件入力!$C$8/12,Q47,返済条件入力!$C$10*12,返済条件入力!$C$6))","v":"-"},"-",null,242,{"$f":"IF(Z47<0,\"-\",+返済条件入力!$C$15)","v":"-"},{"$f":"IF(Z47<0,\"-\",+PPMT(返済条件入力!$C$8/12,V47,返済条件入力!$C$10*12,返済条件入力!$C$6))","v":"-"},"-",-122,-72,-22,28,78]
[null,43,{"$f":"IF(AD47<0,\"-\",+返済条件入力!$C$15)","v":-1060655.1523907525},{"$f":"IF(AD47<0,\"-\",+PPMT(返済条件入力!$C$8/12,B48,返済条件入力!$C$10*12,返済条件入力!$C$6))","v":-766869.98266984662},-293785.16972090583,null,93,{"$f":"IF(AC48<0,\"-\",+返済条件入力!$C$15)","v":-1060655.1523907525},{"$f":"IF(AC48<0,\"-\",+PPMT(返済条件入力!$C$8/12,G48,返済条件入力!$C$10*12,返済条件入力!$C$6))","v":-944086.48773406364},-116568.66465668881,null,143,{"$f":"IF(AB48<0,\"-\",+返済条件入力!$C$15)","v":"-"},{"$f":"IF(AB48<0,\"-\",+PPMT(返済条件入力!$C$8/12,L48,返済条件入力!$C$10*12,返済条件入力!$C$6))","v":"-"},"-",null,193,{"$f":"IF(AA48<0,\"-\",+返済条件入力!$C$15)","v":"-"},{"$f":"IF(AA48<0,\"-\",+PPMT(返済条件入力!$C$8/12,Q48,返済条件入力!$C$10*12,返済条件入力!$C$6))","v":"-"},"-",null,243,{"$f":"IF(Z48<0,\"-\",+返済条件入力!$C$15)","v":"-"},{"$f":"IF(Z48<0,\"-\",+PPMT(返済条件入力!$C$8/12,V48,返済条件入力!$C$10*12,返済条件入力!$C$6))","v":"-"},"-",-123,-73,-23,27,77]
[null,44,{"$f":"IF(AD48<0,\"-\",+返済条件入力!$C$15)","v":-1060655.1523907525},{"$f":"IF(AD48<0,\"-\",+PPMT(返済条件入力!$C$8/12,B49,返済条件入力!$C$10*12,返済条件入力!$C$6))","v":-770065.2742643042},-290589.87812644825,null,94,{"$f":"IF(AC49<0,\"-\",+返済条件入力!$C$15)","v":-1060655.1523907525},{"$f":"IF(AC49<0,\"-\",+PPMT(返済条件入力!$C$8/12,G49,返済条件入力!$C$10*12,返済条件入力!$C$6))","v":-948020.18143295567},-112634.97095779679,null,144,{"$f":"IF(AB49<0,\"-\",+返済条件入力!$C$15)","v":"-"},{"$f":"IF(AB49<0,\"-\",+PPMT(返済条件入力!$C$8/12,L49,返済条件入力!$C$10*12,返済条件入力!$C$6))","v":"-"},"-",null,194,{"$f":"IF(AA49<0,\"-\",+返済条件入力!$C$15)","v":"-"},{"$f":"IF(AA49<0,\"-\",+PPMT(返済条件入力!$C$8/12,Q49,返済条件入力!$C$10*12,返済条件入力!$C$6))","v":"-"},"-",null,244,{"$f":"IF(Z49<0,\"-\",+返済条件入力!$C$15)","v":"-"},{"$f":"IF(Z49<0,\"-\",+PPMT(返済条件入力!$C$8/12,V49,返済条件入力!$C$10*12,返済条件入力!$C$6))","v":"-"},"-",-124,-74,-24,26,76]
[null,45,{"$f":"IF(AD49<0,\"-\",+返済条件入力!$C$15)","v":-1060655.1523907525},{"$f":"IF(AD49<0,\"-\",+PPMT(返済条件入力!$C$8/12,B50,返済条件入力!$C$10*12,返済条件入力!$C$6))","v":-773273.87957373878},-287381.27281701367,null,95,{"$f":"IF(AC50<0,\"-\",+返済条件入力!$C$15)","v":-1060655.1523907525},{"$f":"IF(AC50<0,\"-\",+PPMT(返済条件入力!$C$8/12,G50,返済条件入力!$C$10*12,返済条件入力!$C$6))","v":-951970.26552225975},-108684.8868684927,null,145,{"$f":"IF(AB50<0,\"-\",+返済条件入力!$C$15)","v":"-"},{"$f":"IF(AB50<0,\"-\",+PPMT(返済条件入力!$C$8/12,L50,返済条件入力!$C$10*12,返済条件入力!$C$6))","v":"-"},"-",null,195,{"$f":"IF(AA50<0,\"-\",+返済条件入力!$C$15)","v":"-"},{"$f":"IF(AA50<0,\"-\",+PPMT(返済条件入力!$C$8/12,Q50,返済条件入力!$C$10*12,返済条件入力!$C$6))","v":"-"},"-",null,245,{"$f":"IF(Z50<0,\"-\",+返済条件入力!$C$15)","v":"-"},{"$f":"IF(Z50<0,\"-\",+PPMT(返済条件入力!$C$8/12,V50,返済条件入力!$C$10*12,返済条件入力!$C$6))","v":"-"},"-",-125,-75,-25,25,75]
[null,46,{"$f":"IF(AD50<0,\"-\",+返済条件入力!$C$15)","v":-1060655.1523907525},{"$f":"IF(AD50<0,\"-\",+PPMT(返済条件入力!$C$8/12,B51,返済条件入力!$C$10*12,返済条件入力!$C$6))","v":-776495.85407196288},-284159.29831878957,null,96,{"$f":"IF(AC51<0,\"-\",+返済条件入力!$C$15)","v":-1060655.1523907525},{"$f":"IF(AC51<0,\"-\",+PPMT(返済条件入力!$C$8/12,G51,返済条件入力!$C$10*12,返済条件入力!$C$6))","v":-955936.80829526915},-104718.34409548331,null,146,{"$f":"IF(AB51<0,\"-\",+返済条件入力!$C$15)","v":"-"},{"$f":"IF(AB51<0,\"-\",+PPMT(返済条件入力!$C$8/12,L51,返済条件入力!$C$10*12,返済条件入力!$C$6))","v":"-"},"-",null,196,{"$f":"IF(AA51<0,\"-\",+返済条件入力!$C$15)","v":"-"},{"$f":"IF(AA51<0,\"-\",+PPMT(返済条件入力!$C$8/12,Q51,返済条件入力!$C$10*12,返済条件入力!$C$6))","v":"-"},"-",null,246,{"$f":"IF(Z51<0,\"-\",+返済条件入力!$C$15)","v":"-"},{"$f":"IF(Z51<0,\"-\",+PPMT(返済条件入力!$C$8/12,V51,返済条件入力!$C$10*12,返済条件入力!$C$6))","v":"-"},"-",-126,-76,-26,24,74]
[null,47,{"$f":"IF(AD51<0,\"-\",+返済条件入力!$C$15)","v":-1060655.1523907525},{"$f":"IF(AD51<0,\"-\",+PPMT(返済条件入力!$C$8/12,B52,返済条件入力!$C$10*12,返済条件入力!$C$6))","v":-779731.2534639294},-280923.89892682305,null,97,{"$f":"IF(AC52<0,\"-\",+返済条件入力!$C$15)","v":-1060655.1523907525},{"$f":"IF(AC52<0,\"-\",+PPMT(返済条件入力!$C$8/12,G52,返済条件入力!$C$10*12,返済条件入力!$C$6))","v":-959919.87832983269},-100735.27406091976,null,147,{"$f":"IF(AB52<0,\"-\",+返済条件入力!$C$15)","v":"-"},{"$f":"IF(AB52<0,\"-\",+PPMT(返済条件入力!$C$8/12,L52,返済条件入力!$C$10*12,返済条件入力!$C$6))","v":"-"},"-",null,197,{"$f":"IF(AA52<0,\"-\",+返済条件入力!$C$15)","v":"-"},{"$f":"IF(AA52<0,\"-\",+PPMT(返済条件入力!$C$8/12,Q52,返済条件入力!$C$10*12,返済条件入力!$C$6))","v":"-"},"-",null,247,{"$f":"IF(Z52<0,\"-\",+返済条件入力!$C$15)","v":"-"},{"$f":"IF(Z52<0,\"-\",+PPMT(返済条件入力!$C$8/12,V52,返済条件入力!$C$10*12,返済条件入力!$C$6))","v":"-"},"-",-127,-77,-27,23,73]
[null,48,{"$f":"IF(AD52<0,\"-\",+返済条件入力!$C$15)","v":-1060655.1523907525},{"$f":"IF(AD52<0,\"-\",+PPMT(返済条件入力!$C$8/12,B53,返済条件入力!$C$10*12,返済条件入力!$C$6))","v":-782980.13368669571},-277675.01870405674,null,98,{"$f":"IF(AC53<0,\"-\",+返済条件入力!$C$15)","v":-1060655.1523907525},{"$f":"IF(AC53<0,\"-\",+PPMT(返済条件入力!$C$8/12,G53,返済条件入力!$C$10*12,返済条件入力!$C$6))","v":-963919.54448954028},-96735.607901212177,null,148,{"$f":"IF(AB53<0,\"-\",+返済条件入力!$C$15)","v":"-"},{"$f":"IF(AB53<0,\"-\",+PPMT(返済条件入力!$C$8/12,L53,返済条件入力!$C$10*12,返済条件入力!$C$6))","v":"-"},"-",null,198,{"$f":"IF(AA53<0,\"-\",+返済条件入力!$C$15)","v":"-"},{"$f":"IF(AA53<0,\"-\",+PPMT(返済条件入力!$C$8/12,Q53,返済条件入力!$C$10*12,返済条件入力!$C$6))","v":"-"},"-",null,248,{"$f":"IF(Z53<0,\"-\",+返済条件入力!$C$15)","v":"-"},{"$f":"IF(Z53<0,\"-\",+PPMT(返済条件入力!$C$8/12,V53,返済条件入力!$C$10*12,返済条件入力!$C$6))","v":"-"},"-",-128,-78,-28,22,72]
[null,49,{"$f":"IF(AD53<0,\"-\",+返済条件入力!$C$15)","v":-1060655.1523907525},{"$f":"IF(AD53<0,\"-\",+PPMT(返済条件入力!$C$8/12,B54,返済条件入力!$C$10*12,返済条件入力!$C$6))","v":-786242.55091039033},-274412.60148036212,null,99,{"$f":"IF(AC54<0,\"-\",+返済条件入力!$C$15)","v":-1060655.1523907525},{"$f":"IF(AC54<0,\"-\",+PPMT(返済条件入力!$C$8/12,G54,返済条件入力!$C$10*12,返済条件入力!$C$6))","v":-967935.87592491345},-92719.276465839008,null,149,{"$f":"IF(AB54<0,\"-\",+返済条件入力!$C$15)","v":"-"},{"$f":"IF(AB54<0,\"-\",+PPMT(返済条件入力!$C$8/12,L54,返済条件入力!$C$10*12,返済条件入力!$C$6))","v":"-"},"-",null,199,{"$f":"IF(AA54<0,\"-\",+返済条件入力!$C$15)","v":"-"},{"$f":"IF(AA54<0,\"-\",+PPMT(返済条件入力!$C$8/12,Q54,返済条件入力!$C$10*12,返済条件入力!$C$6))","v":"-"},"-",null,249,{"$f":"IF(Z54<0,\"-\",+返済条件入力!$C$15)","v":"-"},{"$f":"IF(Z54<0,\"-\",+PPMT(返済条件入力!$C$8/12,V54,返済条件入力!$C$10*12,返済条件入力!$C$6))","v":"-"},"-",-129,-79,-29,21,71]
[null,50,{"$f":"IF(AD54<0,\"-\",+返済条件入力!$C$15)","v":-1060655.1523907525},{"$f":"IF(AD54<0,\"-\",+PPMT(返済条件入力!$C$8/12,B55,返済条件入力!$C$10*12,返済条件入力!$C$6))","v":-789518.5615391836},-271136.59085156885,null,100,{"$f":"IF(AC55<0,\"-\",+返済条件入力!$C$15)","v":-1060655.1523907525},{"$f":"IF(AC55<0,\"-\",+PPMT(返済条件入力!$C$8/12,G55,返済条件入力!$C$10*12,返済条件入力!$C$6))","v":-971968.94207460061},-88686.210316151846,null,150,{"$f":"IF(AB55<0,\"-\",+返済条件入力!$C$15)","v":"-"},{"$f":"IF(AB55<0,\"-\",+PPMT(返済条件入力!$C$8/12,L55,返済条件入力!$C$10*12,返済条件入力!$C$6))","v":"-"},"-",null,200,{"$f":"IF(AA55<0,\"-\",+返済条件入力!$C$15)","v":"-"},{"$f":"IF(AA55<0,\"-\",+PPMT(返済条件入力!$C$8/12,Q55,返済条件入力!$C$10*12,返済条件入力!$C$6))","v":"-"},"-",null,250,{"$f":"IF(Z55<0,\"-\",+返済条件入力!$C$15)","v":"-"},{"$f":"IF(Z55<0,\"-\",+PPMT(返済条件入力!$C$8/12,V55,返済条件入力!$C$10*12,返済条件入力!$C$6))","v":"-"},"-",-130,-80,-30,20,70]

{"sheet":"返済計画表・元金均等返済方式","index":2,"n_rows":55,"n_cols":30,"rows_kept":55,"cut":false,"hidden":false,"merged":[[2,2,2,3],[2,7,2,8],[2,12,2,13]]}
[]
[null,"返済計画表　元金均等返済方式"]
[null,{"$f":"返済条件入力!B6","v":"借入金額"},{"$f":"返済条件入力!C6","v":100000000},null,null,null,{"$f":"返済条件入力!B8","v":"金利"},{"$f":"返済条件入力!C8","v":0.05},null,null,null,"返済回数",{"$f":"返済条件入力!C10*12","v":120}]
[]
[null,"支払回","返済額","元金","利息",null,"支払回","返済額","元金","利息",null,"支払回","返済額","元金","利息",null,"支払回","返済額","元金","利息",null,"支払回","返済額","元金","利息"]
[null,1,{"$f":"+D6-E6","v":1246527.7777777778},{"$f":"+返済条件入力!$C$6/返済条件入力!$C$10/12","v":833333.33333333337},{"$f":"ISPMT(返済条件入力!$C$8/12,B6,返済条件入力!$C$10*12,返済条件入力!$C$6)","v":-413194.44444444444},null,51,{"$f":"IF(AC6<0,\"-\",+I6-J6)","v":1072916.6666666667},{"$f":"IF(AC6<0,\"-\",+返済条件入力!$C$6/返済条件入力!$C$10/12)","v":833333.33333333337},{"$f":"IF(AC6<0,\"-\",ISPMT(返済条件入力!$C$8/12,G6,返済条件入力!$C$10*12,返済条件入力!$C$6))","v":-239583.33333333334},null,101,{"$f":"IF(AB6<0,\"-\",+N6-O6)","v":899305.55555555562},{"$f":"IF(AB6<0,\"-\",+返済条件入力!$C$6/返済条件入力!$C$10/12)","v":833333.33333333337},{"$f":"IF(AB6<0,\"-\",ISPMT(返済条件入力!$C$8/12,L6,返済条件入力!$C$10*12,返済条件入力!$C$6))","v":-65972.222222222219},null,151,{"$f":"IF(AA6<0,\"-\",+S6-T6)","v":"-"},{"$f":"IF(AA6<0,\"-\",+返済条件入力!$C$6/返済条件入力!$C$10/12)","v":"-"},{"$f":"IF(AA6<0,\"-\",ISPMT(返済条件入力!$C$8/12,Q6,返済条件入力!$C$10*12,返済条件入力!$C$6))","v":"-"},null,201,{"$f":"IF(Z6<0,\"-\",+X6-Y6)","v":"-"},{"$f":"IF(Z6<0,\"-\",+返済条件入力!$C$6/返済条件入力!$C$10/12)","v":"-"},{"$f":"IF(Z6<0,\"-\",ISPMT(返済条件入力!$C$8/12,V6,返済条件入力!$C$10*12,返済条件入力!$C$6))","v":"-"},{"$f":"+M$3-V6","v":-81},{"$f":"+M$3-Q6","v":-31},{"$f":"+M$3-L6","v":19},{"$f":"+M$3-G6","v":69},{"$f":"+M$3-B6","v":119}]
[null,2,{"$f":"IF(AD7<0,\"-\",+D7-E7)","v":1243055.5555555555},{"$f":"IF(AD7<0,\"-\",+返済条件入力!$C$6/返済条件入力!$C$10/12)","v":833333.33333333337},{"$f":"IF(AD7<0,\"-\",ISPMT(返済条件入力!$C$8/12,B7,返済条件入力!$C$10*12,返済条件入力!$C$6))","v":-409722.22222222219},null,52,{"$f":"IF(AC7<0,\"-\",+I7-J7)","v":1069444.4444444445},{"$f":"IF(AC7<0,\"-\",+返済条件入力!$C$6/返済条件入力!$C$10/12)","v":833333.33333333337},{"$f":"IF(AC7<0,\"-\",ISPMT(返済条件入力!$C$8/12,G7,返済条件入力!$C$10*12,返済条件入力!$C$6))","v":-236111.11111111109},null,102,{"$f":"IF(AB7<0,\"-\",+N7-O7)","v":895833.33333333337},{"$f":"IF(AB7<0,\"-\",+返済条件入力!$C$6/返済条件入力!$C$10/12)","v":833333.33333333337},{"$f":"IF(AB7<0,\"-\",ISPMT(返済条件入力!$C$8/12,L7,返済条件入力!$C$10*12,返済条件入力!$C$6))","v":-62500},null,152,{"$f":"IF(AA7<0,\"-\",+S7-T7)","v":"-"},{"$f":"IF(AA7<0,\"-\",+返済条件入力!$C$6/返済条件入力!$C$10/12)","v":"-"},{"$f":"IF(AA7<0,\"-\",ISPMT(返済条件入力!$C$8/12,Q7,返済条件入力!$C$10*12,返済条件入力!$C$6))","v":"-"},null,202,{"$f":"IF(Z7<0,\"-\",+X7-Y7)","v":"-"},{"$f":"IF(Z7<0,\"-\",+返済条件入力!$C$6/返済条件入力!$C$10/12)","v":"-"},{"$f":"IF(Z7<0,\"-\",ISPMT(返済条件入力!$C$8/12,V7,返済条件入力!$C$10*12,返済条件入力!$C$6))","v":"-"},{"$f":"+M$3-V7","v":-82},{"$f":"+M$3-Q7","v":-32},{"$f":"+M$3-L7","v":18},{"$f":"+M$3-G7","v":68},{"$f":"+M$3-B7","v":118}]
[null,3,{"$f":"IF(AD8<0,\"-\",+D8-E8)","v":1239583.3333333335},{"$f":"IF(AD8<0,\"-\",+返済条件入力!$C$6/返済条件入力!$C$10/12)","v":833333.33333333337},{"$f":"IF(AD8<0,\"-\",ISPMT(返済条件入力!$C$8/12,B8,返済条件入力!$C$10*12,返済条件入力!$C$6))","v":-406250},null,53,1065972.2222222222,{"$f":"IF(AC8<0,\"-\",+返済条件入力!$C$6/返済条件入力!$C$10/12)","v":833333.33333333337},{"$f":"IF(AC8<0,\"-\",ISPMT(返済条件入力!$C$8/12,G8,返済条件入力!$C$10*12,返済条件入力!$C$6))","v":-232638.88888888891},null,103,892361.11111111112,{"$f":"IF(AB8<0,\"-\",+返済条件入力!$C$6/返済条件入力!$C$10/12)","v":833333.33333333337},{"$f":"IF(AB8<0,\"-\",ISPMT(返済条件入力!$C$8/12,L8,返済条件入力!$C$10*12,返済条件入力!$C$6))","v":-59027.777777777774},null,153,"-",{"$f":"IF(AA8<0,\"-\",+返済条件入力!$C$6/返済条件入力!$C$10/12)","v":"-"},{"$f":"IF(AA8<0,\"-\",ISPMT(返済条件入力!$C$8/12,Q8,返済条件入力!$C$10*12,返済条件入力!$C$6))","v":"-"},null,203,"-",{"$f":"IF(Z8<0,\"-\",+返済条件入力!$C$6/返済条件入力!$C$10/12)","v":"-"},{"$f":"IF(Z8<0,\"-\",ISPMT(返済条件入力!$C$8/12,V8,返済条件入力!$C$10*12,返済条件入力!$C$6))","v":"-"},-83,-33,17,67,117]
[null,4,1236111.1111111112,{"$f":"IF(AD9<0,\"-\",+返済条件入力!$C$6/返済条件入力!$C$10/12)","v":833333.33333333337},{"$f":"IF(AD9<0,\"-\",ISPMT(返済条件入力!$C$8/12,B9,返済条件入力!$C$10*12,返済条件入力!$C$6))","v":-402777.77777777781},null,54,1062500,{"$f":"IF(AC9<0,\"-\",+返済条件入力!$C$6/返済条件入力!$C$10/12)","v":833333.33333333337},{"$f":"IF(AC9<0,\"-\",ISPMT(返済条件入力!$C$8/12,G9,返済条件入力!$C$10*12,返済条件入力!$C$6))","v":-229166.66666666666},null,104,888888.88888888888,{"$f":"IF(AB9<0,\"-\",+返済条件入力!$C$6/返済条件入力!$C$10/12)","v":833333.33333333337},{"$f":"IF(AB9<0,\"-\",ISPMT(返済条件入力!$C$8/12,L9,返済条件入力!$C$10*12,返済条件入力!$C$6))","v":-55555.555555555555},null,154,"-",{"$f":"IF(AA9<0,\"-\",+返済条件入力!$C$6/返済条件入力!$C$10/12)","v":"-"},{"$f":"IF(AA9<0,\"-\",ISPMT(返済条件入力!$C$8/12,Q9,返済条件入力!$C$10*12,返済条件入力!$C$6))","v":"-"},null,204,"-",{"$f":"IF(Z9<0,\"-\",+返済条件入力!$C$6/返済条件入力!$C$10/12)","v":"-"},{"$f":"IF(Z9<0,\"-\",ISPMT(返済条件入力!$C$8/12,V9,返済条件入力!$C$10*12,返済条件入力!$C$6))","v":"-"},-84,-34,16,66,116]
[null,5,1232638.888888889,{"$f":"IF(AD10<0,\"-\",+返済条件入力!$C$6/返済条件入力!$C$10/12)","v":833333.33333333337},{"$f":"IF(AD10<0,\"-\",ISPMT(返済条件入力!$C$8/12,B10,返済条件入力!$C$10*12,返済条件入力!$C$6))","v":-399305.55555555556},null,55,1059027.7777777778,{"$f":"IF(AC10<0,\"-\",+返済条件入力!$C$6/返済条件入力!$C$10/12)","v":833333.33333333337},{"$f":"IF(AC10<0,\"-\",ISPMT(返済条件入力!$C$8/12,G10,返済条件入力!$C$10*12,返済条件入力!$C$6))","v":-225694.44444444444},null,105,885416.66666666674,{"$f":"IF(AB10<0,\"-\",+返済条件入力!$C$6/返済条件入力!$C$10/12)","v":833333.33333333337},{"$f":"IF(AB10<0,\"-\",ISPMT(返済条件入力!$C$8/12,L10,返済条件入力!$C$10*12,返済条件入力!$C$6))","v":-52083.333333333336},null,155,"-",{"$f":"IF(AA10<0,\"-\",+返済条件入力!$C$6/返済条件入力!$C$10/12)","v":"-"},{"$f":"IF(AA10<0,\"-\",ISPMT(返済条件入力!$C$8/12,Q10,返済条件入力!$C$10*12,返済条件入力!$C$6))","v":"-"},null,205,"-",{"$f":"IF(Z10<0,\"-\",+返済条件入力!$C$6/返済条件入力!$C$10/12)","v":"-"},{"$f":"IF(Z10<0,\"-\",ISPMT(返済条件入力!$C$8/12,V10,返済条件入力!$C$10*12,返済条件入力!$C$6))","v":"-"},-85,-35,15,65,115]
[null,6,1229166.6666666667,{"$f":"IF(AD11<0,\"-\",+返済条件入力!$C$6/返済条件入力!$C$10/12)","v":833333.33333333337},{"$f":"IF(AD11<0,\"-\",ISPMT(返済条件入力!$C$8/12,B11,返済条件入力!$C$10*12,返済条件入力!$C$6))","v":-395833.33333333331},null,56,1055555.5555555555,{"$f":"IF(AC11<0,\"-\",+返済条件入力!$C$6/返済条件入力!$C$10/12)","v":833333.33333333337},{"$f":"IF(AC11<0,\"-\",ISPMT(返済条件入力!$C$8/12,G11,返済条件入力!$C$10*12,返済条件入力!$C$6))","v":-222222.22222222222},null,106,881944.4444444445,{"$f":"IF(AB11<0,\"-\",+返済条件入力!$C$6/返済条件入力!$C$10/12)","v":833333.33333333337},{"$f":"IF(AB11<0,\"-\",ISPMT(返済条件入力!$C$8/12,L11,返済条件入力!$C$10*12,返済条件入力!$C$6))","v":-48611.111111111109},null,156,"-",{"$f":"IF(AA11<0,\"-\",+返済条件入力!$C$6/返済条件入力!$C$10/12)","v":"-"},{"$f":"IF(AA11<0,\"-\",ISPMT(返済条件入力!$C$8/12,Q11,返済条件入力!$C$10*12,返済条件入力!$C$6))","v":"-"},null,206,"-",{"$f":"IF(Z11<0,\"-\",+返済条件入力!$C$6/返済条件入力!$C$10/12)","v":"-"},{"$f":"IF(Z11<0,\"-\",ISPMT(返済条件入力!$C$8/12,V11,返済条件入力!$C$10*12,返済条件入力!$C$6))","v":"-"},-86,-36,14,64,114]
[null,7,1225694.4444444445,{"$f":"IF(AD12<0,\"-\",+返済条件入力!$C$6/返済条件入力!$C$10/12)","v":833333.33333333337},{"$f":"IF(AD12<0,\"-\",ISPMT(返済条件入力!$C$8/12,B12,返済条件入力!$C$10*12,返済条件入力!$C$6))","v":-392361.11111111112},null,57,1052083.3333333335,{"$f":"IF(AC12<0,\"-\",+返済条件入力!$C$6/返済条件入力!$C$10/12)","v":833333.33333333337},{"$f":"IF(AC12<0,\"-\",ISPMT(返済条件入力!$C$8/12,G12,返済条件入力!$C$10*12,返済条件入力!$C$6))","v":-218750},null,107,878472.22222222225,{"$f":"IF(AB12<0,\"-\",+返済条件入力!$C$6/返済条件入力!$C$10/12)","v":833333.33333333337},{"$f":"IF(AB12<0,\"-\",ISPMT(返済条件入力!$C$8/12,L12,返済条件入力!$C$10*12,返済条件入力!$C$6))","v":-45138.888888888891},null,157,"-",{"$f":"IF(AA12<0,\"-\",+返済条件入力!$C$6/返済条件入力!$C$10/12)","v":"-"},{"$f":"IF(AA12<0,\"-\",ISPMT(返済条件入力!$C$8/12,Q12,返済条件入力!$C$10*12,返済条件入力!$C$6))","v":"-"},null,207,"-",{"$f":"IF(Z12<0,\"-\",+返済条件入力!$C$6/返済条件入力!$C$10/12)","v":"-"},{"$f":"IF(Z12<0,\"-\",ISPMT(返済条件入力!$C$8/12,V12,返済条件入力!$C$10*12,返済条件入力!$C$6))","v":"-"},-87,-37,13,63,113]
[null,8,1222222.2222222222,{"$f":"IF(AD13<0,\"-\",+返済条件入力!$C$6/返済条件入力!$C$10/12)","v":833333.33333333337},{"$f":"IF(AD13<0,\"-\",ISPMT(返済条件入力!$C$8/12,B13,返済条件入力!$C$10*12,返済条件入力!$C$6))","v":-388888.88888888888},null,58,1048611.1111111112,{"$f":"IF(AC13<0,\"-\",+返済条件入力!$C$6/返済条件入力!$C$10/12)","v":833333.33333333337},{"$f":"IF(AC13<0,\"-\",ISPMT(返済条件入力!$C$8/12,G13,返済条件入力!$C$10*12,返済条件入力!$C$6))","v":-215277.77777777778},null,108,875000,{"$f":"IF(AB13<0,\"-\",+返済条件入力!$C$6/返済条件入力!$C$10/12)","v":833333.33333333337},{"$f":"IF(AB13<0,\"-\",ISPMT(返済条件入力!$C$8/12,L13,返済条件入力!$C$10*12,返済条件入力!$C$6))","v":-41666.666666666664},null,158,"-",{"$f":"IF(AA13<0,\"-\",+返済条件入力!$C$6/返済条件入力!$C$10/12)","v":"-"},{"$f":"IF(AA13<0,\"-\",ISPMT(返済条件入力!$C$8/12,Q13,返済条件入力!$C$10*12,返済条件入力!$C$6))","v":"-"},null,208,"-",{"$f":"IF(Z13<0,\"-\",+返済条件入力!$C$6/返済条件入力!$C$10/12)","v":"-"},{"$f":"IF(Z13<0,\"-\",ISPMT(返済条件入力!$C$8/12,V13,返済条件入力!$C$10*12,返済条件入力!$C$6))","v":"-"},-88,-38,12,62,112]
[null,9,1218750,{"$f":"IF(AD14<0,\"-\",+返済条件入力!$C$6/返済条件入力!$C$10/12)","v":833333.33333333337},{"$f":"IF(AD14<0,\"-\",ISPMT(返済条件入力!$C$8/12,B14,返済条件入力!$C$10*12,返済条件入力!$C$6))","v":-385416.66666666669},null,59,1045138.888888889,{"$f":"IF(AC14<0,\"-\",+返済条件入力!$C$6/返済条件入力!$C$10/12)","v":833333.33333333337},{"$f":"IF(AC14<0,\"-\",ISPMT(返済条件入力!$C$8/12,G14,返済条件入力!$C$10*12,返済条件入力!$C$6))","v":-211805.55555555556},null,109,871527.77777777787,{"$f":"IF(AB14<0,\"-\",+返済条件入力!$C$6/返済条件入力!$C$10/12)","v":833333.33333333337},{"$f":"IF(AB14<0,\"-\",ISPMT(返済条件入力!$C$8/12,L14,返済条件入力!$C$10*12,返済条件入力!$C$6))","v":-38194.444444444445},null,159,"-",{"$f":"IF(AA14<0,\"-\",+返済条件入力!$C$6/返済条件入力!$C$10/12)","v":"-"},{"$f":"IF(AA14<0,\"-\",ISPMT(返済条件入力!$C$8/12,Q14,返済条件入力!$C$10*12,返済条件入力!$C$6))","v":"-"},null,209,"-",{"$f":"IF(Z14<0,\"-\",+返済条件入力!$C$6/返済条件入力!$C$10/12)","v":"-"},{"$f":"IF(Z14<0,\"-\",ISPMT(返済条件入力!$C$8/12,V14,返済条件入力!$C$10*12,返済条件入力!$C$6))","v":"-"},-89,-39,11,61,111]
[null,10,1215277.7777777778,{"$f":"IF(AD15<0,\"-\",+返済条件入力!$C$6/返済条件入力!$C$10/12)","v":833333.33333333337},{"$f":"IF(AD15<0,\"-\",ISPMT(返済条件入力!$C$8/12,B15,返済条件入力!$C$10*12,返済条件入力!$C$6))","v":-381944.44444444444},null,60,1041666.6666666667,{"$f":"IF(AC15<0,\"-\",+返済条件入力!$C$6/返済条件入力!$C$10/12)","v":833333.33333333337},{"$f":"IF(AC15<0,\"-\",ISPMT(返済条件入力!$C$8/12,G15,返済条件入力!$C$10*12,返済条件入力!$C$6))","v":-208333.33333333334},null,110,868055.55555555562,{"$f":"IF(AB15<0,\"-\",+返済条件入力!$C$6/返済条件入力!$C$10/12)","v":833333.33333333337},{"$f":"IF(AB15<0,\"-\",ISPMT(返済条件入力!$C$8/12,L15,返済条件入力!$C$10*12,返済条件入力!$C$6))","v":-34722.222222222219},null,160,"-",{"$f":"IF(AA15<0,\"-\",+返済条件入力!$C$6/返済条件入力!$C$10/12)","v":"-"},{"$f":"IF(AA15<0,\"-\",ISPMT(返済条件入力!$C$8/12,Q15,返済条件入力!$C$10*12,返済条件入力!$C$6))","v":"-"},null,210,"-",{"$f":"IF(Z15<0,\"-\",+返済条件入力!$C$6/返済条件入力!$C$10/12)","v":"-"},{"$f":"IF(Z15<0,\"-\",ISPMT(返済条件入力!$C$8/12,V15,返済条件入力!$C$10*12,返済条件入力!$C$6))","v":"-"},-90,-40,10,60,110]
[null,11,1211805.5555555555,{"$f":"IF(AD16<0,\"-\",+返済条件入力!$C$6/返済条件入力!$C$10/12)","v":833333.33333333337},{"$f":"IF(AD16<0,\"-\",ISPMT(返済条件入力!$C$8/12,B16,返済条件入力!$C$10*12,返済条件入力!$C$6))","v":-378472.22222222219},null,61,1038194.4444444445,{"$f":"IF(AC16<0,\"-\",+返済条件入力!$C$6/返済条件入力!$C$10/12)","v":833333.33333333337},{"$f":"IF(AC16<0,\"-\",ISPMT(返済条件入力!$C$8/12,G16,返済条件入力!$C$10*12,返済条件入力!$C$6))","v":-204861.11111111109},null,111,864583.33333333337,{"$f":"IF(AB16<0,\"-\",+返済条件入力!$C$6/返済条件入力!$C$10/12)","v":833333.33333333337},{"$f":"IF(AB16<0,\"-\",ISPMT(返済条件入力!$C$8/12,L16,返済条件入力!$C$10*12,返済条件入力!$C$6))","v":-31250},null,161,"-",{"$f":"IF(AA16<0,\"-\",+返済条件入力!$C$6/返済条件入力!$C$10/12)","v":"-"},{"$f":"IF(AA16<0,\"-\",ISPMT(返済条件入力!$C$8/12,Q16,返済条件入力!$C$10*12,返済条件入力!$C$6))","v":"-"},null,211,"-",{"$f":"IF(Z16<0,\"-\",+返済条件入力!$C$6/返済条件入力!$C$10/12)","v":"-"},{"$f":"IF(Z16<0,\"-\",ISPMT(返済条件入力!$C$8/12,V16,返済条件入力!$C$10*12,返済条件入力!$C$6))","v":"-"},-91,-41,9,59,109]
[null,12,1208333.3333333335,{"$f":"IF(AD17<0,\"-\",+返済条件入力!$C$6/返済条件入力!$C$10/12)","v":833333.33333333337},{"$f":"IF(AD17<0,\"-\",ISPMT(返済条件入力!$C$8/12,B17,返済条件入力!$C$10*12,返済条件入力!$C$6))","v":-375000},null,62,1034722.2222222222,{"$f":"IF(AC17<0,\"-\",+返済条件入力!$C$6/返済条件入力!$C$10/12)","v":833333.33333333337},{"$f":"IF(AC17<0,\"-\",ISPMT(返済条件入力!$C$8/12,G17,返済条件入力!$C$10*12,返済条件入力!$C$6))","v":-201388.88888888891},null,112,861111.11111111112,{"$f":"IF(AB17<0,\"-\",+返済条件入力!$C$6/返済条件入力!$C$10/12)","v":833333.33333333337},{"$f":"IF(AB17<0,\"-\",ISPMT(返済条件入力!$C$8/12,L17,返済条件入力!$C$10*12,返済条件入力!$C$6))","v":-27777.777777777777},null,162,"-",{"$f":"IF(AA17<0,\"-\",+返済条件入力!$C$6/返済条件入力!$C$10/12)","v":"-"},{"$f":"IF(AA17<0,\"-\",ISPMT(返済条件入力!$C$8/12,Q17,返済条件入力!$C$10*12,返済条件入力!$C$6))","v":"-"},null,212,"-",{"$f":"IF(Z17<0,\"-\",+返済条件入力!$C$6/返済条件入力!$C$10/12)","v":"-"},{"$f":"IF(Z17<0,\"-\",ISPMT(返済条件入力!$C$8/12,V17,返済条件入力!$C$10*12,返済条件入力!$C$6))","v":"-"},-92,-42,8,58,108]
[null,13,1204861.1111111112,{"$f":"IF(AD18<0,\"-\",+返済条件入力!$C$6/返済条件入力!$C$10/12)","v":833333.33333333337},{"$f":"IF(AD18<0,\"-\",ISPMT(返済条件入力!$C$8/12,B18,返済条件入力!$C$10*12,返済条件入力!$C$6))","v":-371527.77777777781},null,63,1031250,{"$f":"IF(AC18<0,\"-\",+返済条件入力!$C$6/返済条件入力!$C$10/12)","v":833333.33333333337},{"$f":"IF(AC18<0,\"-\",ISPMT(返済条件入力!$C$8/12,G18,返済条件入力!$C$10*12,返済条件入力!$C$6))","v":-197916.66666666666},null,113,857638.88888888888,{"$f":"IF(AB18<0,\"-\",+返済条件入力!$C$6/返済条件入力!$C$10/12)","v":833333.33333333337},{"$f":"IF(AB18<0,\"-\",ISPMT(返済条件入力!$C$8/12,L18,返済条件入力!$C$10*12,返済条件入力!$C$6))","v":-24305.555555555555},null,163,"-",{"$f":"IF(AA18<0,\"-\",+返済条件入力!$C$6/返済条件入力!$C$10/12)","v":"-"},{"$f":"IF(AA18<0,\"-\",ISPMT(返済条件入力!$C$8/12,Q18,返済条件入力!$C$10*12,返済条件入力!$C$6))","v":"-"},null,213,"-",{"$f":"IF(Z18<0,\"-\",+返済条件入力!$C$6/返済条件入力!$C$10/12)","v":"-"},{"$f":"IF(Z18<0,\"-\",ISPMT(返済条件入力!$C$8/12,V18,返済条件入力!$C$10*12,返済条件入力!$C$6))","v":"-"},-93,-43,7,57,107]
[null,14,1201388.888888889,{"$f":"IF(AD19<0,\"-\",+返済条件入力!$C$6/返済条件入力!$C$10/12)","v":833333.33333333337},{"$f":"IF(AD19<0,\"-\",ISPMT(返済条件入力!$C$8/12,B19,返済条件入力!$C$10*12,返済条件入力!$C$6))","v":-368055.55555555556},null,64,1027777.7777777778,{"$f":"IF(AC19<0,\"-\",+返済条件入力!$C$6/返済条件入力!$C$10/12)","v":833333.33333333337},{"$f":"IF(AC19<0,\"-\",ISPMT(返済条件入力!$C$8/12,G19,返済条件入力!$C$10*12,返済条件入力!$C$6))","v":-194444.44444444444},null,114,854166.66666666674,{"$f":"IF(AB19<0,\"-\",+返済条件入力!$C$6/返済条件入力!$C$10/12)","v":833333.33333333337},{"$f":"IF(AB19<0,\"-\",ISPMT(返済条件入力!$C$8/12,L19,返済条件入力!$C$10*12,返済条件入力!$C$6))","v":-20833.333333333332},null,164,"-",{"$f":"IF(AA19<0,\"-\",+返済条件入力!$C$6/返済条件入力!$C$10/12)","v":"-"},{"$f":"IF(AA19<0,\"-\",ISPMT(返済条件入力!$C$8/12,Q19,返済条件入力!$C$10*12,返済条件入力!$C$6))","v":"-"},null,214,"-",{"$f":"IF(Z19<0,\"-\",+返済条件入力!$C$6/返済条件入力!$C$10/12)","v":"-"},{"$f":"IF(Z19<0,\"-\",ISPMT(返済条件入力!$C$8/12,V19,返済条件入力!$C$10*12,返済条件入力!$C$6))","v":"-"},-94,-44,6,56,106]
[null,15,1197916.6666666667,{"$f":"IF(AD20<0,\"-\",+返済条件入力!$C$6/返済条件入力!$C$10/12)","v":833333.33333333337},{"$f":"IF(AD20<0,\"-\",ISPMT(返済条件入力!$C$8/12,B20,返済条件入力!$C$10*12,返済条件入力!$C$6))","v":-364583.33333333331},null,65,1024305.5555555556,{"$f":"IF(AC20<0,\"-\",+返済条件入力!$C$6/返済条件入力!$C$10/12)","v":833333.33333333337},{"$f":"IF(AC20<0,\"-\",ISPMT(返済条件入力!$C$8/12,G20,返済条件入力!$C$10*12,返済条件入力!$C$6))","v":-190972.22222222222},null,115,850694.4444444445,{"$f":"IF(AB20<0,\"-\",+返済条件入力!$C$6/返済条件入力!$C$10/12)","v":833333.33333333337},{"$f":"IF(AB20<0,\"-\",ISPMT(返済条件入力!$C$8/12,L20,返済条件入力!$C$10*12,返済条件入力!$C$6))","v":-17361.111111111109},null,165,"-",{"$f":"IF(AA20<0,\"-\",+返済条件入力!$C$6/返済条件入力!$C$10/12)","v":"-"},{"$f":"IF(AA20<0,\"-\",ISPMT(返済条件入力!$C$8/12,Q20,返済条件入力!$C$10*12,返済条件入力!$C$6))","v":"-"},null,215,"-",{"$f":"IF(Z20<0,\"-\",+返済条件入力!$C$6/返済条件入力!$C$10/12)","v":"-"},{"$f":"IF(Z20<0,\"-\",ISPMT(返済条件入力!$C$8/12,V20,返済条件入力!$C$10*12,返済条件入力!$C$6))","v":"-"},-95,-45,5,55,105]
[null,16,1194444.4444444445,{"$f":"IF(AD21<0,\"-\",+返済条件入力!$C$6/返済条件入力!$C$10/12)","v":833333.33333333337},{"$f":"IF(AD21<0,\"-\",ISPMT(返済条件入力!$C$8/12,B21,返済条件入力!$C$10*12,返済条件入力!$C$6))","v":-361111.11111111112},null,66,1020833.3333333334,{"$f":"IF(AC21<0,\"-\",+返済条件入力!$C$6/返済条件入力!$C$10/12)","v":833333.33333333337},{"$f":"IF(AC21<0,\"-\",ISPMT(返済条件入力!$C$8/12,G21,返済条件入力!$C$10*12,返済条件入力!$C$6))","v":-187500},null,116,847222.22222222225,{"$f":"IF(AB21<0,\"-\",+返済条件入力!$C$6/返済条件入力!$C$10/12)","v":833333.33333333337},{"$f":"IF(AB21<0,\"-\",ISPMT(返済条件入力!$C$8/12,L21,返済条件入力!$C$10*12,返済条件入力!$C$6))","v":-13888.888888888889},null,166,"-",{"$f":"IF(AA21<0,\"-\",+返済条件入力!$C$6/返済条件入力!$C$10/12)","v":"-"},{"$f":"IF(AA21<0,\"-\",ISPMT(返済条件入力!$C$8/12,Q21,返済条件入力!$C$10*12,返済条件入力!$C$6))","v":"-"},null,216,"-",{"$f":"IF(Z21<0,\"-\",+返済条件入力!$C$6/返済条件入力!$C$10/12)","v":"-"},{"$f":"IF(Z21<0,\"-\",ISPMT(返済条件入力!$C$8/12,V21,返済条件入力!$C$10*12,返済条件入力!$C$6))","v":"-"},-96,-46,4,54,104]
[null,17,1190972.2222222222,{"$f":"IF(AD22<0,\"-\",+返済条件入力!$C$6/返済条件入力!$C$10/12)","v":833333.33333333337},{"$f":"IF(AD22<0,\"-\",ISPMT(返済条件入力!$C$8/12,B22,返済条件入力!$C$10*12,返済条件入力!$C$6))","v":-357638.88888888888},null,67,1017361.1111111111,{"$f":"IF(AC22<0,\"-\",+返済条件入力!$C$6/返済条件入力!$C$10/12)","v":833333.33333333337},{"$f":"IF(AC22<0,\"-\",ISPMT(返済条件入力!$C$8/12,G22,返済条件入力!$C$10*12,返済条件入力!$C$6))","v":-184027.77777777778},null,117,843750,{"$f":"IF(AB22<0,\"-\",+返済条件入力!$C$6/返済条件入力!$C$10/12)","v":833333.33333333337},{"$f":"IF(AB22<0,\"-\",ISPMT(返済条件入力!$C$8/12,L22,返済条件入力!$C$10*12,返済条件入力!$C$6))","v":-10416.666666666666},null,167,"-",{"$f":"IF(AA22<0,\"-\",+返済条件入力!$C$6/返済条件入力!$C$10/12)","v":"-"},{"$f":"IF(AA22<0,\"-\",ISPMT(返済条件入力!$C$8/12,Q22,返済条件入力!$C$10*12,返済条件入力!$C$6))","v":"-"},null,217,"-",{"$f":"IF(Z22<0,\"-\",+返済条件入力!$C$6/返済条件入力!$C$10/12)","v":"-"},{"$f":"IF(Z22<0,\"-\",ISPMT(返済条件入力!$C$8/12,V22,返済条件入力!$C$10*12,返済条件入力!$C$6))","v":"-"},-97,-47,3,53,103]
[null,18,1187500,{"$f":"IF(AD23<0,\"-\",+返済条件入力!$C$6/返済条件入力!$C$10/12)","v":833333.33333333337},{"$f":"IF(AD23<0,\"-\",ISPMT(返済条件入力!$C$8/12,B23,返済条件入力!$C$10*12,返済条件入力!$C$6))","v":-354166.66666666669},null,68,1013888.888888889,{"$f":"IF(AC23<0,\"-\",+返済条件入力!$C$6/返済条件入力!$C$10/12)","v":833333.33333333337},{"$f":"IF(AC23<0,\"-\",ISPMT(返済条件入力!$C$8/12,G23,返済条件入力!$C$10*12,返済条件入力!$C$6))","v":-180555.55555555556},null,118,840277.77777777787,{"$f":"IF(AB23<0,\"-\",+返済条件入力!$C$6/返済条件入力!$C$10/12)","v":833333.33333333337},{"$f":"IF(AB23<0,\"-\",ISPMT(返済条件入力!$C$8/12,L23,返済条件入力!$C$10*12,返済条件入力!$C$6))","v":-6944.4444444444443},null,168,"-",{"$f":"IF(AA23<0,\"-\",+返済条件入力!$C$6/返済条件入力!$C$10/12)","v":"-"},{"$f":"IF(AA23<0,\"-\",ISPMT(返済条件入力!$C$8/12,Q23,返済条件入力!$C$10*12,返済条件入力!$C$6))","v":"-"},null,218,"-",{"$f":"IF(Z23<0,\"-\",+返済条件入力!$C$6/返済条件入力!$C$10/12)","v":"-"},{"$f":"IF(Z23<0,\"-\",ISPMT(返済条件入力!$C$8/12,V23,返済条件入力!$C$10*12,返済条件入力!$C$6))","v":"-"},-98,-48,2,52,102]
[null,19,1184027.7777777778,{"$f":"IF(AD24<0,\"-\",+返済条件入力!$C$6/返済条件入力!$C$10/12)","v":833333.33333333337},{"$f":"IF(AD24<0,\"-\",ISPMT(返済条件入力!$C$8/12,B24,返済条件入力!$C$10*12,返済条件入力!$C$6))","v":-350694.44444444444},null,69,1010416.6666666667,{"$f":"IF(AC24<0,\"-\",+返済条件入力!$C$6/返済条件入力!$C$10/12)","v":833333.33333333337},{"$f":"IF(AC24<0,\"-\",ISPMT(返済条件入力!$C$8/12,G24,返済条件入力!$C$10*12,返済条件入力!$C$6))","v":-177083.33333333334},null,119,836805.55555555562,{"$f":"IF(AB24<0,\"-\",+返済条件入力!$C$6/返済条件入力!$C$10/12)","v":833333.33333333337},{"$f":"IF(AB24<0,\"-\",ISPMT(返済条件入力!$C$8/12,L24,返済条件入力!$C$10*12,返済条件入力!$C$6))","v":-3472.2222222222222},null,169,"-",{"$f":"IF(AA24<0,\"-\",+返済条件入力!$C$6/返済条件入力!$C$10/12)","v":"-"},{"$f":"IF(AA24<0,\"-\",ISPMT(返済条件入力!$C$8/12,Q24,返済条件入力!$C$10*12,返済条件入力!$C$6))","v":"-"},null,219,"-",{"$f":"IF(Z24<0,\"-\",+返済条件入力!$C$6/返済条件入力!$C$10/12)","v":"-"},{"$f":"IF(Z24<0,\"-\",ISPMT(返済条件入力!$C$8/12,V24,返済条件入力!$C$10*12,返済条件入力!$C$6))","v":"-"},-99,-49,1,51,101]
[null,20,1180555.5555555555,{"$f":"IF(AD25<0,\"-\",+返済条件入力!$C$6/返済条件入力!$C$10/12)","v":833333.33333333337},{"$f":"IF(AD25<0,\"-\",ISPMT(返済条件入力!$C$8/12,B25,返済条件入力!$C$10*12,返済条件入力!$C$6))","v":-347222.22222222219},null,70,1006944.4444444445,{"$f":"IF(AC25<0,\"-\",+返済条件入力!$C$6/返済条件入力!$C$10/12)","v":833333.33333333337},{"$f":"IF(AC25<0,\"-\",ISPMT(返済条件入力!$C$8/12,G25,返済条件入力!$C$10*12,返済条件入力!$C$6))","v":-173611.11111111109},null,120,833333.33333333337,{"$f":"IF(AB25<0,\"-\",+返済条件入力!$C$6/返済条件入力!$C$10/12)","v":833333.33333333337},{"$f":"IF(AB25<0,\"-\",ISPMT(返済条件入力!$C$8/12,L25,返済条件入力!$C$10*12,返済条件入力!$C$6))","v":0},null,170,"-",{"$f":"IF(AA25<0,\"-\",+返済条件入力!$C$6/返済条件入力!$C$10/12)","v":"-"},{"$f":"IF(AA25<0,\"-\",ISPMT(返済条件入力!$C$8/12,Q25,返済条件入力!$C$10*12,返済条件入力!$C$6))","v":"-"},null,220,"-",{"$f":"IF(Z25<0,\"-\",+返済条件入力!$C$6/返済条件入力!$C$10/12)","v":"-"},{"$f":"IF(Z25<0,\"-\",ISPMT(返済条件入力!$C$8/12,V25,返済条件入力!$C$10*12,返済条件入力!$C$6))","v":"-"},-100,-50,0,50,100]
[null,21,1177083.3333333335,{"$f":"IF(AD26<0,\"-\",+返済条件入力!$C$6/返済条件入力!$C$10/12)","v":833333.33333333337},{"$f":"IF(AD26<0,\"-\",ISPMT(返済条件入力!$C$8/12,B26,返済条件入力!$C$10*12,返済条件入力!$C$6))","v":-343750},null,71,1003472.2222222222,{"$f":"IF(AC26<0,\"-\",+返済条件入力!$C$6/返済条件入力!$C$10/12)","v":833333.33333333337},{"$f":"IF(AC26<0,\"-\",ISPMT(返済条件入力!$C$8/12,G26,返済条件入力!$C$10*12,返済条件入力!$C$6))","v":-170138.88888888891},null,121,"-",{"$f":"IF(AB26<0,\"-\",+返済条件入力!$C$6/返済条件入力!$C$10/12)","v":"-"},{"$f":"IF(AB26<0,\"-\",ISPMT(返済条件入力!$C$8/12,L26,返済条件入力!$C$10*12,返済条件入力!$C$6))","v":"-"},null,171,"-",{"$f":"IF(AA26<0,\"-\",+返済条件入力!$C$6/返済条件入力!$C$10/12)","v":"-"},{"$f":"IF(AA26<0,\"-\",ISPMT(返済条件入力!$C$8/12,Q26,返済条件入力!$C$10*12,返済条件入力!$C$6))","v":"-"},null,221,"-",{"$f":"IF(Z26<0,\"-\",+返済条件入力!$C$6/返済条件入力!$C$10/12)","v":"-"},{"$f":"IF(Z26<0,\"-\",ISPMT(返済条件入力!$C$8/12,V26,返済条件入力!$C$10*12,返済条件入力!$C$6))","v":"-"},-101,-51,-1,49,99]
[null,22,1173611.1111111112,{"$f":"IF(AD27<0,\"-\",+返済条件入力!$C$6/返済条件入力!$C$10/12)","v":833333.33333333337},{"$f":"IF(AD27<0,\"-\",ISPMT(返済条件入力!$C$8/12,B27,返済条件入力!$C$10*12,返済条件入力!$C$6))","v":-340277.77777777781},null,72,1000000,{"$f":"IF(AC27<0,\"-\",+返済条件入力!$C$6/返済条件入力!$C$10/12)","v":833333.33333333337},{"$f":"IF(AC27<0,\"-\",ISPMT(返済条件入力!$C$8/12,G27,返済条件入力!$C$10*12,返済条件入力!$C$6))","v":-166666.66666666666},null,122,"-",{"$f":"IF(AB27<0,\"-\",+返済条件入力!$C$6/返済条件入力!$C$10/12)","v":"-"},{"$f":"IF(AB27<0,\"-\",ISPMT(返済条件入力!$C$8/12,L27,返済条件入力!$C$10*12,返済条件入力!$C$6))","v":"-"},null,172,"-",{"$f":"IF(AA27<0,\"-\",+返済条件入力!$C$6/返済条件入力!$C$10/12)","v":"-"},{"$f":"IF(AA27<0,\"-\",ISPMT(返済条件入力!$C$8/12,Q27,返済条件入力!$C$10*12,返済条件入力!$C$6))","v":"-"},null,222,"-",{"$f":"IF(Z27<0,\"-\",+返済条件入力!$C$6/返済条件入力!$C$10/12)","v":"-"},{"$f":"IF(Z27<0,\"-\",ISPMT(返済条件入力!$C$8/12,V27,返済条件入力!$C$10*12,返済条件入力!$C$6))","v":"-"},-102,-52,-2,48,98]
[null,23,1170138.888888889,{"$f":"IF(AD28<0,\"-\",+返済条件入力!$C$6/返済条件入力!$C$10/12)","v":833333.33333333337},{"$f":"IF(AD28<0,\"-\",ISPMT(返済条件入力!$C$8/12,B28,返済条件入力!$C$10*12,返済条件入力!$C$6))","v":-336805.55555555556},null,73,996527.77777777775,{"$f":"IF(AC28<0,\"-\",+返済条件入力!$C$6/返済条件入力!$C$10/12)","v":833333.33333333337},{"$f":"IF(AC28<0,\"-\",ISPMT(返済条件入力!$C$8/12,G28,返済条件入力!$C$10*12,返済条件入力!$C$6))","v":-163194.44444444444},null,123,"-",{"$f":"IF(AB28<0,\"-\",+返済条件入力!$C$6/返済条件入力!$C$10/12)","v":"-"},{"$f":"IF(AB28<0,\"-\",ISPMT(返済条件入力!$C$8/12,L28,返済条件入力!$C$10*12,返済条件入力!$C$6))","v":"-"},null,173,"-",{"$f":"IF(AA28<0,\"-\",+返済条件入力!$C$6/返済条件入力!$C$10/12)","v":"-"},{"$f":"IF(AA28<0,\"-\",ISPMT(返済条件入力!$C$8/12,Q28,返済条件入力!$C$10*12,返済条件入力!$C$6))","v":"-"},null,223,"-",{"$f":"IF(Z28<0,\"-\",+返済条件入力!$C$6/返済条件入力!$C$10/12)","v":"-"},{"$f":"IF(Z28<0,\"-\",ISPMT(返済条件入力!$C$8/12,V28,返済条件入力!$C$10*12,返済条件入力!$C$6))","v":"-"},-103,-53,-3,47,97]
[null,24,1166666.6666666667,{"$f":"IF(AD29<0,\"-\",+返済条件入力!$C$6/返済条件入力!$C$10/12)","v":833333.33333333337},{"$f":"IF(AD29<0,\"-\",ISPMT(返済条件入力!$C$8/12,B29,返済条件入力!$C$10*12,返済条件入力!$C$6))","v":-333333.33333333331},null,74,993055.55555555562,{"$f":"IF(AC29<0,\"-\",+返済条件入力!$C$6/返済条件入力!$C$10/12)","v":833333.33333333337},{"$f":"IF(AC29<0,\"-\",ISPMT(返済条件入力!$C$8/12,G29,返済条件入力!$C$10*12,返済条件入力!$C$6))","v":-159722.22222222222},null,124,"-",{"$f":"IF(AB29<0,\"-\",+返済条件入力!$C$6/返済条件入力!$C$10/12)","v":"-"},{"$f":"IF(AB29<0,\"-\",ISPMT(返済条件入力!$C$8/12,L29,返済条件入力!$C$10*12,返済条件入力!$C$6))","v":"-"},null,174,"-",{"$f":"IF(AA29<0,\"-\",+返済条件入力!$C$6/返済条件入力!$C$10/12)","v":"-"},{"$f":"IF(AA29<0,\"-\",ISPMT(返済条件入力!$C$8/12,Q29,返済条件入力!$C$10*12,返済条件入力!$C$6))","v":"-"},null,224,"-",{"$f":"IF(Z29<0,\"-\",+返済条件入力!$C$6/返済条件入力!$C$10/12)","v":"-"},{"$f":"IF(Z29<0,\"-\",ISPMT(返済条件入力!$C$8/12,V29,返済条件入力!$C$10*12,返済条件入力!$C$6))","v":"-"},-104,-54,-4,46,96]
[null,25,1163194.4444444445,{"$f":"IF(AD30<0,\"-\",+返済条件入力!$C$6/返済条件入力!$C$10/12)","v":833333.33333333337},{"$f":"IF(AD30<0,\"-\",ISPMT(返済条件入力!$C$8/12,B30,返済条件入力!$C$10*12,返済条件入力!$C$6))","v":-329861.11111111112},null,75,989583.33333333337,{"$f":"IF(AC30<0,\"-\",+返済条件入力!$C$6/返済条件入力!$C$10/12)","v":833333.33333333337},{"$f":"IF(AC30<0,\"-\",ISPMT(返済条件入力!$C$8/12,G30,返済条件入力!$C$10*12,返済条件入力!$C$6))","v":-156250},null,125,"-",{"$f":"IF(AB30<0,\"-\",+返済条件入力!$C$6/返済条件入力!$C$10/12)","v":"-"},{"$f":"IF(AB30<0,\"-\",ISPMT(返済条件入力!$C$8/12,L30,返済条件入力!$C$10*12,返済条件入力!$C$6))","v":"-"},null,175,"-",{"$f":"IF(AA30<0,\"-\",+返済条件入力!$C$6/返済条件入力!$C$10/12)","v":"-"},{"$f":"IF(AA30<0,\"-\",ISPMT(返済条件入力!$C$8/12,Q30,返済条件入力!$C$10*12,返済条件入力!$C$6))","v":"-"},null,225,"-",{"$f":"IF(Z30<0,\"-\",+返済条件入力!$C$6/返済条件入力!$C$10/12)","v":"-"},{"$f":"IF(Z30<0,\"-\",ISPMT(返済条件入力!$C$8/12,V30,返済条件入力!$C$10*12,返済条件入力!$C$6))","v":"-"},-105,-55,-5,45,95]
[null,26,1159722.2222222222,{"$f":"IF(AD31<0,\"-\",+返済条件入力!$C$6/返済条件入力!$C$10/12)","v":833333.33333333337},{"$f":"IF(AD31<0,\"-\",ISPMT(返済条件入力!$C$8/12,B31,返済条件入力!$C$10*12,返済条件入力!$C$6))","v":-326388.88888888888},null,76,986111.11111111112,{"$f":"IF(AC31<0,\"-\",+返済条件入力!$C$6/返済条件入力!$C$10/12)","v":833333.33333333337},{"$f":"IF(AC31<0,\"-\",ISPMT(返済条件入力!$C$8/12,G31,返済条件入力!$C$10*12,返済条件入力!$C$6))","v":-152777.77777777778},null,126,"-",{"$f":"IF(AB31<0,\"-\",+返済条件入力!$C$6/返済条件入力!$C$10/12)","v":"-"},{"$f":"IF(AB31<0,\"-\",ISPMT(返済条件入力!$C$8/12,L31,返済条件入力!$C$10*12,返済条件入力!$C$6))","v":"-"},null,176,"-",{"$f":"IF(AA31<0,\"-\",+返済条件入力!$C$6/返済条件入力!$C$10/12)","v":"-"},{"$f":"IF(AA31<0,\"-\",ISPMT(返済条件入力!$C$8/12,Q31,返済条件入力!$C$10*12,返済条件入力!$C$6))","v":"-"},null,226,"-",{"$f":"IF(Z31<0,\"-\",+返済条件入力!$C$6/返済条件入力!$C$10/12)","v":"-"},{"$f":"IF(Z31<0,\"-\",ISPMT(返済条件入力!$C$8/12,V31,返済条件入力!$C$10*12,返済条件入力!$C$6))","v":"-"},-106,-56,-6,44,94]
[null,27,1156250,{"$f":"IF(AD32<0,\"-\",+返済条件入力!$C$6/返済条件入力!$C$10/12)","v":833333.33333333337},{"$f":"IF(AD32<0,\"-\",ISPMT(返済条件入力!$C$8/12,B32,返済条件入力!$C$10*12,返済条件入力!$C$6))","v":-322916.66666666669},null,77,982638.88888888899,{"$f":"IF(AC32<0,\"-\",+返済条件入力!$C$6/返済条件入力!$C$10/12)","v":833333.33333333337},{"$f":"IF(AC32<0,\"-\",ISPMT(返済条件入力!$C$8/12,G32,返済条件入力!$C$10*12,返済条件入力!$C$6))","v":-149305.55555555556},null,127,"-",{"$f":"IF(AB32<0,\"-\",+返済条件入力!$C$6/返済条件入力!$C$10/12)","v":"-"},{"$f":"IF(AB32<0,\"-\",ISPMT(返済条件入力!$C$8/12,L32,返済条件入力!$C$10*12,返済条件入力!$C$6))","v":"-"},null,177,"-",{"$f":"IF(AA32<0,\"-\",+返済条件入力!$C$6/返済条件入力!$C$10/12)","v":"-"},{"$f":"IF(AA32<0,\"-\",ISPMT(返済条件入力!$C$8/12,Q32,返済条件入力!$C$10*12,返済条件入力!$C$6))","v":"-"},null,227,"-",{"$f":"IF(Z32<0,\"-\",+返済条件入力!$C$6/返済条件入力!$C$10/12)","v":"-"},{"$f":"IF(Z32<0,\"-\",ISPMT(返済条件入力!$C$8/12,V32,返済条件入力!$C$10*12,返済条件入力!$C$6))","v":"-"},-107,-57,-7,43,93]
[null,28,1152777.7777777778,{"$f":"IF(AD33<0,\"-\",+返済条件入力!$C$6/返済条件入力!$C$10/12)","v":833333.33333333337},{"$f":"IF(AD33<0,\"-\",ISPMT(返済条件入力!$C$8/12,B33,返済条件入力!$C$10*12,返済条件入力!$C$6))","v":-319444.44444444444},null,78,979166.66666666674,{"$f":"IF(AC33<0,\"-\",+返済条件入力!$C$6/返済条件入力!$C$10/12)","v":833333.33333333337},{"$f":"IF(AC33<0,\"-\",ISPMT(返済条件入力!$C$8/12,G33,返済条件入力!$C$10*12,返済条件入力!$C$6))","v":-145833.33333333334},null,128,"-",{"$f":"IF(AB33<0,\"-\",+返済条件入力!$C$6/返済条件入力!$C$10/12)","v":"-"},{"$f":"IF(AB33<0,\"-\",ISPMT(返済条件入力!$C$8/12,L33,返済条件入力!$C$10*12,返済条件入力!$C$6))","v":"-"},null,178,"-",{"$f":"IF(AA33<0,\"-\",+返済条件入力!$C$6/返済条件入力!$C$10/12)","v":"-"},{"$f":"IF(AA33<0,\"-\",ISPMT(返済条件入力!$C$8/12,Q33,返済条件入力!$C$10*12,返済条件入力!$C$6))","v":"-"},null,228,"-",{"$f":"IF(Z33<0,\"-\",+返済条件入力!$C$6/返済条件入力!$C$10/12)","v":"-"},{"$f":"IF(Z33<0,\"-\",ISPMT(返済条件入力!$C$8/12,V33,返済条件入力!$C$10*12,返済条件入力!$C$6))","v":"-"},-108,-58,-8,42,92]
[null,29,1149305.5555555555,{"$f":"IF(AD34<0,\"-\",+返済条件入力!$C$6/返済条件入力!$C$10/12)","v":833333.33333333337},{"$f":"IF(AD34<0,\"-\",ISPMT(返済条件入力!$C$8/12,B34,返済条件入力!$C$10*12,返済条件入力!$C$6))","v":-315972.22222222219},null,79,975694.4444444445,{"$f":"IF(AC34<0,\"-\",+返済条件入力!$C$6/返済条件入力!$C$10/12)","v":833333.33333333337},{"$f":"IF(AC34<0,\"-\",ISPMT(返済条件入力!$C$8/12,G34,返済条件入力!$C$10*12,返済条件入力!$C$6))","v":-142361.11111111109},null,129,"-",{"$f":"IF(AB34<0,\"-\",+返済条件入力!$C$6/返済条件入力!$C$10/12)","v":"-"},{"$f":"IF(AB34<0,\"-\",ISPMT(返済条件入力!$C$8/12,L34,返済条件入力!$C$10*12,返済条件入力!$C$6))","v":"-"},null,179,"-",{"$f":"IF(AA34<0,\"-\",+返済条件入力!$C$6/返済条件入力!$C$10/12)","v":"-"},{"$f":"IF(AA34<0,\"-\",ISPMT(返済条件入力!$C$8/12,Q34,返済条件入力!$C$10*12,返済条件入力!$C$6))","v":"-"},null,229,"-",{"$f":"IF(Z34<0,\"-\",+返済条件入力!$C$6/返済条件入力!$C$10/12)","v":"-"},{"$f":"IF(Z34<0,\"-\",ISPMT(返済条件入力!$C$8/12,V34,返済条件入力!$C$10*12,返済条件入力!$C$6))","v":"-"},-109,-59,-9,41,91]
[null,30,1145833.3333333335,{"$f":"IF(AD35<0,\"-\",+返済条件入力!$C$6/返済条件入力!$C$10/12)","v":833333.33333333337},{"$f":"IF(AD35<0,\"-\",ISPMT(返済条件入力!$C$8/12,B35,返済条件入力!$C$10*12,返済条件入力!$C$6))","v":-312500},null,80,972222.22222222225,{"$f":"IF(AC35<0,\"-\",+返済条件入力!$C$6/返済条件入力!$C$10/12)","v":833333.33333333337},{"$f":"IF(AC35<0,\"-\",ISPMT(返済条件入力!$C$8/12,G35,返済条件入力!$C$10*12,返済条件入力!$C$6))","v":-138888.88888888888},null,130,"-",{"$f":"IF(AB35<0,\"-\",+返済条件入力!$C$6/返済条件入力!$C$10/12)","v":"-"},{"$f":"IF(AB35<0,\"-\",ISPMT(返済条件入力!$C$8/12,L35,返済条件入力!$C$10*12,返済条件入力!$C$6))","v":"-"},null,180,"-",{"$f":"IF(AA35<0,\"-\",+返済条件入力!$C$6/返済条件入力!$C$10/12)","v":"-"},{"$f":"IF(AA35<0,\"-\",ISPMT(返済条件入力!$C$8/12,Q35,返済条件入力!$C$10*12,返済条件入力!$C$6))","v":"-"},null,230,"-",{"$f":"IF(Z35<0,\"-\",+返済条件入力!$C$6/返済条件入力!$C$10/12)","v":"-"},{"$f":"IF(Z35<0,\"-\",ISPMT(返済条件入力!$C$8/12,V35,返済条件入力!$C$10*12,返済条件入力!$C$6))","v":"-"},-110,-60,-10,40,90]
[null,31,1142361.1111111112,{"$f":"IF(AD36<0,\"-\",+返済条件入力!$C$6/返済条件入力!$C$10/12)","v":833333.33333333337},{"$f":"IF(AD36<0,\"-\",ISPMT(返済条件入力!$C$8/12,B36,返済条件入力!$C$10*12,返済条件入力!$C$6))","v":-309027.77777777781},null,81,968750,{"$f":"IF(AC36<0,\"-\",+返済条件入力!$C$6/返済条件入力!$C$10/12)","v":833333.33333333337},{"$f":"IF(AC36<0,\"-\",ISPMT(返済条件入力!$C$8/12,G36,返済条件入力!$C$10*12,返済条件入力!$C$6))","v":-135416.66666666666},null,131,"-",{"$f":"IF(AB36<0,\"-\",+返済条件入力!$C$6/返済条件入力!$C$10/12)","v":"-"},{"$f":"IF(AB36<0,\"-\",ISPMT(返済条件入力!$C$8/12,L36,返済条件入力!$C$10*12,返済条件入力!$C$6))","v":"-"},null,181,"-",{"$f":"IF(AA36<0,\"-\",+返済条件入力!$C$6/返済条件入力!$C$10/12)","v":"-"},{"$f":"IF(AA36<0,\"-\",ISPMT(返済条件入力!$C$8/12,Q36,返済条件入力!$C$10*12,返済条件入力!$C$6))","v":"-"},null,231,"-",{"$f":"IF(Z36<0,\"-\",+返済条件入力!$C$6/返済条件入力!$C$10/12)","v":"-"},{"$f":"IF(Z36<0,\"-\",ISPMT(返済条件入力!$C$8/12,V36,返済条件入力!$C$10*12,返済条件入力!$C$6))","v":"-"},-111,-61,-11,39,89]
[null,32,1138888.888888889,{"$f":"IF(AD37<0,\"-\",+返済条件入力!$C$6/返済条件入力!$C$10/12)","v":833333.33333333337},{"$f":"IF(AD37<0,\"-\",ISPMT(返済条件入力!$C$8/12,B37,返済条件入力!$C$10*12,返済条件入力!$C$6))","v":-305555.55555555556},null,82,965277.77777777775,{"$f":"IF(AC37<0,\"-\",+返済条件入力!$C$6/返済条件入力!$C$10/12)","v":833333.33333333337},{"$f":"IF(AC37<0,\"-\",ISPMT(返済条件入力!$C$8/12,G37,返済条件入力!$C$10*12,返済条件入力!$C$6))","v":-131944.44444444444},null,132,"-",{"$f":"IF(AB37<0,\"-\",+返済条件入力!$C$6/返済条件入力!$C$10/12)","v":"-"},{"$f":"IF(AB37<0,\"-\",ISPMT(返済条件入力!$C$8/12,L37,返済条件入力!$C$10*12,返済条件入力!$C$6))","v":"-"},null,182,"-",{"$f":"IF(AA37<0,\"-\",+返済条件入力!$C$6/返済条件入力!$C$10/12)","v":"-"},{"$f":"IF(AA37<0,\"-\",ISPMT(返済条件入力!$C$8/12,Q37,返済条件入力!$C$10*12,返済条件入力!$C$6))","v":"-"},null,232,"-",{"$f":"IF(Z37<0,\"-\",+返済条件入力!$C$6/返済条件入力!$C$10/12)","v":"-"},{"$f":"IF(Z37<0,\"-\",ISPMT(返済条件入力!$C$8/12,V37,返済条件入力!$C$10*12,返済条件入力!$C$6))","v":"-"},-112,-62,-12,38,88]
[null,33,1135416.6666666667,{"$f":"IF(AD38<0,\"-\",+返済条件入力!$C$6/返済条件入力!$C$10/12)","v":833333.33333333337},{"$f":"IF(AD38<0,\"-\",ISPMT(返済条件入力!$C$8/12,B38,返済条件入力!$C$10*12,返済条件入力!$C$6))","v":-302083.33333333331},null,83,961805.55555555562,{"$f":"IF(AC38<0,\"-\",+返済条件入力!$C$6/返済条件入力!$C$10/12)","v":833333.33333333337},{"$f":"IF(AC38<0,\"-\",ISPMT(返済条件入力!$C$8/12,G38,返済条件入力!$C$10*12,返済条件入力!$C$6))","v":-128472.22222222222},null,133,"-",{"$f":"IF(AB38<0,\"-\",+返済条件入力!$C$6/返済条件入力!$C$10/12)","v":"-"},{"$f":"IF(AB38<0,\"-\",ISPMT(返済条件入力!$C$8/12,L38,返済条件入力!$C$10*12,返済条件入力!$C$6))","v":"-"},null,183,"-",{"$f":"IF(AA38<0,\"-\",+返済条件入力!$C$6/返済条件入力!$C$10/12)","v":"-"},{"$f":"IF(AA38<0,\"-\",ISPMT(返済条件入力!$C$8/12,Q38,返済条件入力!$C$10*12,返済条件入力!$C$6))","v":"-"},null,233,"-",{"$f":"IF(Z38<0,\"-\",+返済条件入力!$C$6/返済条件入力!$C$10/12)","v":"-"},{"$f":"IF(Z38<0,\"-\",ISPMT(返済条件入力!$C$8/12,V38,返済条件入力!$C$10*12,返済条件入力!$C$6))","v":"-"},-113,-63,-13,37,87]
[null,34,{"$f":"IF(AD39<0,\"-\",+D39-E39)","v":1131944.4444444445},{"$f":"IF(AD39<0,\"-\",+返済条件入力!$C$6/返済条件入力!$C$10/12)","v":833333.33333333337},{"$f":"IF(AD39<0,\"-\",ISPMT(返済条件入力!$C$8/12,B39,返済条件入力!$C$10*12,返済条件入力!$C$6))","v":-298611.11111111112},null,84,958333.33333333337,{"$f":"IF(AC39<0,\"-\",+返済条件入力!$C$6/返済条件入力!$C$10/12)","v":833333.33333333337},{"$f":"IF(AC39<0,\"-\",ISPMT(返済条件入力!$C$8/12,G39,返済条件入力!$C$10*12,返済条件入力!$C$6))","v":-125000},null,134,"-",{"$f":"IF(AB39<0,\"-\",+返済条件入力!$C$6/返済条件入力!$C$10/12)","v":"-"},{"$f":"IF(AB39<0,\"-\",ISPMT(返済条件入力!$C$8/12,L39,返済条件入力!$C$10*12,返済条件入力!$C$6))","v":"-"},null,184,"-",{"$f":"IF(AA39<0,\"-\",+返済条件入力!$C$6/返済条件入力!$C$10/12)","v":"-"},{"$f":"IF(AA39<0,\"-\",ISPMT(返済条件入力!$C$8/12,Q39,返済条件入力!$C$10*12,返済条件入力!$C$6))","v":"-"},null,234,"-",{"$f":"IF(Z39<0,\"-\",+返済条件入力!$C$6/返済条件入力!$C$10/12)","v":"-"},{"$f":"IF(Z39<0,\"-\",ISPMT(返済条件入力!$C$8/12,V39,返済条件入力!$C$10*12,返済条件入力!$C$6))","v":"-"},-114,-64,-14,36,86]
[null,35,1128472.2222222222,{"$f":"IF(AD40<0,\"-\",+返済条件入力!$C$6/返済条件入力!$C$10/12)","v":833333.33333333337},{"$f":"IF(AD40<0,\"-\",ISPMT(返済条件入力!$C$8/12,B40,返済条件入力!$C$10*12,返済条件入力!$C$6))","v":-295138.88888888888},null,85,954861.11111111112,{"$f":"IF(AC40<0,\"-\",+返済条件入力!$C$6/返済条件入力!$C$10/12)","v":833333.33333333337},{"$f":"IF(AC40<0,\"-\",ISPMT(返済条件入力!$C$8/12,G40,返済条件入力!$C$10*12,返済条件入力!$C$6))","v":-121527.77777777778},null,135,"-",{"$f":"IF(AB40<0,\"-\",+返済条件入力!$C$6/返済条件入力!$C$10/12)","v":"-"},{"$f":"IF(AB40<0,\"-\",ISPMT(返済条件入力!$C$8/12,L40,返済条件入力!$C$10*12,返済条件入力!$C$6))","v":"-"},null,185,"-",{"$f":"IF(AA40<0,\"-\",+返済条件入力!$C$6/返済条件入力!$C$10/12)","v":"-"},{"$f":"IF(AA40<0,\"-\",ISPMT(返済条件入力!$C$8/12,Q40,返済条件入力!$C$10*12,返済条件入力!$C$6))","v":"-"},null,235,"-",{"$f":"IF(Z40<0,\"-\",+返済条件入力!$C$6/返済条件入力!$C$10/12)","v":"-"},{"$f":"IF(Z40<0,\"-\",ISPMT(返済条件入力!$C$8/12,V40,返済条件入力!$C$10*12,返済条件入力!$C$6))","v":"-"},-115,-65,-15,35,85]
[null,36,1125000,{"$f":"IF(AD41<0,\"-\",+返済条件入力!$C$6/返済条件入力!$C$10/12)","v":833333.33333333337},{"$f":"IF(AD41<0,\"-\",ISPMT(返済条件入力!$C$8/12,B41,返済条件入力!$C$10*12,返済条件入力!$C$6))","v":-291666.66666666669},null,86,951388.88888888888,{"$f":"IF(AC41<0,\"-\",+返済条件入力!$C$6/返済条件入力!$C$10/12)","v":833333.33333333337},{"$f":"IF(AC41<0,\"-\",ISPMT(返済条件入力!$C$8/12,G41,返済条件入力!$C$10*12,返済条件入力!$C$6))","v":-118055.55555555555},null,136,"-",{"$f":"IF(AB41<0,\"-\",+返済条件入力!$C$6/返済条件入力!$C$10/12)","v":"-"},{"$f":"IF(AB41<0,\"-\",ISPMT(返済条件入力!$C$8/12,L41,返済条件入力!$C$10*12,返済条件入力!$C$6))","v":"-"},null,186,"-",{"$f":"IF(AA41<0,\"-\",+返済条件入力!$C$6/返済条件入力!$C$10/12)","v":"-"},{"$f":"IF(AA41<0,\"-\",ISPMT(返済条件入力!$C$8/12,Q41,返済条件入力!$C$10*12,返済条件入力!$C$6))","v":"-"},null,236,"-",{"$f":"IF(Z41<0,\"-\",+返済条件入力!$C$6/返済条件入力!$C$10/12)","v":"-"},{"$f":"IF(Z41<0,\"-\",ISPMT(返済条件入力!$C$8/12,V41,返済条件入力!$C$10*12,返済条件入力!$C$6))","v":"-"},-116,-66,-16,34,84]
[null,37,1121527.7777777778,{"$f":"IF(AD42<0,\"-\",+返済条件入力!$C$6/返済条件入力!$C$10/12)","v":833333.33333333337},{"$f":"IF(AD42<0,\"-\",ISPMT(返済条件入力!$C$8/12,B42,返済条件入力!$C$10*12,返済条件入力!$C$6))","v":-288194.44444444444},null,87,947916.66666666674,{"$f":"IF(AC42<0,\"-\",+返済条件入力!$C$6/返済条件入力!$C$10/12)","v":833333.33333333337},{"$f":"IF(AC42<0,\"-\",ISPMT(返済条件入力!$C$8/12,G42,返済条件入力!$C$10*12,返済条件入力!$C$6))","v":-114583.33333333333},null,137,"-",{"$f":"IF(AB42<0,\"-\",+返済条件入力!$C$6/返済条件入力!$C$10/12)","v":"-"},{"$f":"IF(AB42<0,\"-\",ISPMT(返済条件入力!$C$8/12,L42,返済条件入力!$C$10*12,返済条件入力!$C$6))","v":"-"},null,187,"-",{"$f":"IF(AA42<0,\"-\",+返済条件入力!$C$6/返済条件入力!$C$10/12)","v":"-"},{"$f":"IF(AA42<0,\"-\",ISPMT(返済条件入力!$C$8/12,Q42,返済条件入力!$C$10*12,返済条件入力!$C$6))","v":"-"},null,237,"-",{"$f":"IF(Z42<0,\"-\",+返済条件入力!$C$6/返済条件入力!$C$10/12)","v":"-"},{"$f":"IF(Z42<0,\"-\",ISPMT(返済条件入力!$C$8/12,V42,返済条件入力!$C$10*12,返済条件入力!$C$6))","v":"-"},-117,-67,-17,33,83]
[null,38,1118055.5555555555,{"$f":"IF(AD43<0,\"-\",+返済条件入力!$C$6/返済条件入力!$C$10/12)","v":833333.33333333337},{"$f":"IF(AD43<0,\"-\",ISPMT(返済条件入力!$C$8/12,B43,返済条件入力!$C$10*12,返済条件入力!$C$6))","v":-284722.22222222219},null,88,944444.4444444445,{"$f":"IF(AC43<0,\"-\",+返済条件入力!$C$6/返済条件入力!$C$10/12)","v":833333.33333333337},{"$f":"IF(AC43<0,\"-\",ISPMT(返済条件入力!$C$8/12,G43,返済条件入力!$C$10*12,返済条件入力!$C$6))","v":-111111.11111111111},null,138,"-",{"$f":"IF(AB43<0,\"-\",+返済条件入力!$C$6/返済条件入力!$C$10/12)","v":"-"},{"$f":"IF(AB43<0,\"-\",ISPMT(返済条件入力!$C$8/12,L43,返済条件入力!$C$10*12,返済条件入力!$C$6))","v":"-"},null,188,"-",{"$f":"IF(AA43<0,\"-\",+返済条件入力!$C$6/返済条件入力!$C$10/12)","v":"-"},{"$f":"IF(AA43<0,\"-\",ISPMT(返済条件入力!$C$8/12,Q43,返済条件入力!$C$10*12,返済条件入力!$C$6))","v":"-"},null,238,"-",{"$f":"IF(Z43<0,\"-\",+返済条件入力!$C$6/返済条件入力!$C$10/12)","v":"-"},{"$f":"IF(Z43<0,\"-\",ISPMT(返済条件入力!$C$8/12,V43,返済条件入力!$C$10*12,返済条件入力!$C$6))","v":"-"},-118,-68,-18,32,82]
[null,39,1114583.3333333335,{"$f":"IF(AD44<0,\"-\",+返済条件入力!$C$6/返済条件入力!$C$10/12)","v":833333.33333333337},{"$f":"IF(AD44<0,\"-\",ISPMT(返済条件入力!$C$8/12,B44,返済条件入力!$C$10*12,返済条件入力!$C$6))","v":-281250},null,89,940972.22222222225,{"$f":"IF(AC44<0,\"-\",+返済条件入力!$C$6/返済条件入力!$C$10/12)","v":833333.33333333337},{"$f":"IF(AC44<0,\"-\",ISPMT(返済条件入力!$C$8/12,G44,返済条件入力!$C$10*12,返済条件入力!$C$6))","v":-107638.88888888889},null,139,"-",{"$f":"IF(AB44<0,\"-\",+返済条件入力!$C$6/返済条件入力!$C$10/12)","v":"-"},{"$f":"IF(AB44<0,\"-\",ISPMT(返済条件入力!$C$8/12,L44,返済条件入力!$C$10*12,返済条件入力!$C$6))","v":"-"},null,189,"-",{"$f":"IF(AA44<0,\"-\",+返済条件入力!$C$6/返済条件入力!$C$10/12)","v":"-"},{"$f":"IF(AA44<0,\"-\",ISPMT(返済条件入力!$C$8/12,Q44,返済条件入力!$C$10*12,返済条件入力!$C$6))","v":"-"},null,239,"-",{"$f":"IF(Z44<0,\"-\",+返済条件入力!$C$6/返済条件入力!$C$10/12)","v":"-"},{"$f":"IF(Z44<0,\"-\",ISPMT(返済条件入力!$C$8/12,V44,返済条件入力!$C$10*12,返済条件入力!$C$6))","v":"-"},-119,-69,-19,31,81]
[null,40,1111111.111111111,{"$f":"IF(AD45<0,\"-\",+返済条件入力!$C$6/返済条件入力!$C$10/12)","v":833333.33333333337},{"$f":"IF(AD45<0,\"-\",ISPMT(返済条件入力!$C$8/12,B45,返済条件入力!$C$10*12,返済条件入力!$C$6))","v":-277777.77777777775},null,90,937500,{"$f":"IF(AC45<0,\"-\",+返済条件入力!$C$6/返済条件入力!$C$10/12)","v":833333.33333333337},{"$f":"IF(AC45<0,\"-\",ISPMT(返済条件入力!$C$8/12,G45,返済条件入力!$C$10*12,返済条件入力!$C$6))","v":-104166.66666666667},null,140,"-",{"$f":"IF(AB45<0,\"-\",+返済条件入力!$C$6/返済条件入力!$C$10/12)","v":"-"},{"$f":"IF(AB45<0,\"-\",ISPMT(返済条件入力!$C$8/12,L45,返済条件入力!$C$10*12,返済条件入力!$C$6))","v":"-"},null,190,"-",{"$f":"IF(AA45<0,\"-\",+返済条件入力!$C$6/返済条件入力!$C$10/12)","v":"-"},{"$f":"IF(AA45<0,\"-\",ISPMT(返済条件入力!$C$8/12,Q45,返済条件入力!$C$10*12,返済条件入力!$C$6))","v":"-"},null,240,"-",{"$f":"IF(Z45<0,\"-\",+返済条件入力!$C$6/返済条件入力!$C$10/12)","v":"-"},{"$f":"IF(Z45<0,\"-\",ISPMT(返済条件入力!$C$8/12,V45,返済条件入力!$C$10*12,返済条件入力!$C$6))","v":"-"},-120,-70,-20,30,80]
[null,41,1107638.888888889,{"$f":"IF(AD46<0,\"-\",+返済条件入力!$C$6/返済条件入力!$C$10/12)","v":833333.33333333337},{"$f":"IF(AD46<0,\"-\",ISPMT(返済条件入力!$C$8/12,B46,返済条件入力!$C$10*12,返済条件入力!$C$6))","v":-274305.55555555556},null,91,934027.77777777787,{"$f":"IF(AC46<0,\"-\",+返済条件入力!$C$6/返済条件入力!$C$10/12)","v":833333.33333333337},{"$f":"IF(AC46<0,\"-\",ISPMT(返済条件入力!$C$8/12,G46,返済条件入力!$C$10*12,返済条件入力!$C$6))","v":-100694.44444444445},null,141,"-",{"$f":"IF(AB46<0,\"-\",+返済条件入力!$C$6/返済条件入力!$C$10/12)","v":"-"},{"$f":"IF(AB46<0,\"-\",ISPMT(返済条件入力!$C$8/12,L46,返済条件入力!$C$10*12,返済条件入力!$C$6))","v":"-"},null,191,"-",{"$f":"IF(AA46<0,\"-\",+返済条件入力!$C$6/返済条件入力!$C$10/12)","v":"-"},{"$f":"IF(AA46<0,\"-\",ISPMT(返済条件入力!$C$8/12,Q46,返済条件入力!$C$10*12,返済条件入力!$C$6))","v":"-"},null,241,"-",{"$f":"IF(Z46<0,\"-\",+返済条件入力!$C$6/返済条件入力!$C$10/12)","v":"-"},{"$f":"IF(Z46<0,\"-\",ISPMT(返済条件入力!$C$8/12,V46,返済条件入力!$C$10*12,返済条件入力!$C$6))","v":"-"},-121,-71,-21,29,79]
[null,42,1104166.6666666667,{"$f":"IF(AD47<0,\"-\",+返済条件入力!$C$6/返済条件入力!$C$10/12)","v":833333.33333333337},{"$f":"IF(AD47<0,\"-\",ISPMT(返済条件入力!$C$8/12,B47,返済条件入力!$C$10*12,返済条件入力!$C$6))","v":-270833.33333333331},null,92,930555.55555555562,{"$f":"IF(AC47<0,\"-\",+返済条件入力!$C$6/返済条件入力!$C$10/12)","v":833333.33333333337},{"$f":"IF(AC47<0,\"-\",ISPMT(返済条件入力!$C$8/12,G47,返済条件入力!$C$10*12,返済条件入力!$C$6))","v":-97222.222222222219},null,142,"-",{"$f":"IF(AB47<0,\"-\",+返済条件入力!$C$6/返済条件入力!$C$10/12)","v":"-"},{"$f":"IF(AB47<0,\"-\",ISPMT(返済条件入力!$C$8/12,L47,返済条件入力!$C$10*12,返済条件入力!$C$6))","v":"-"},null,192,"-",{"$f":"IF(AA47<0,\"-\",+返済条件入力!$C$6/返済条件入力!$C$10/12)","v":"-"},{"$f":"IF(AA47<0,\"-\",ISPMT(返済条件入力!$C$8/12,Q47,返済条件入力!$C$10*12,返済条件入力!$C$6))","v":"-"},null,242,"-",{"$f":"IF(Z47<0,\"-\",+返済条件入力!$C$6/返済条件入力!$C$10/12)","v":"-"},{"$f":"IF(Z47<0,\"-\",ISPMT(返済条件入力!$C$8/12,V47,返済条件入力!$C$10*12,返済条件入力!$C$6))","v":"-"},-122,-72,-22,28,78]
[null,43,1100694.4444444445,{"$f":"IF(AD48<0,\"-\",+返済条件入力!$C$6/返済条件入力!$C$10/12)","v":833333.33333333337},{"$f":"IF(AD48<0,\"-\",ISPMT(返済条件入力!$C$8/12,B48,返済条件入力!$C$10*12,返済条件入力!$C$6))","v":-267361.11111111112},null,93,927083.33333333337,{"$f":"IF(AC48<0,\"-\",+返済条件入力!$C$6/返済条件入力!$C$10/12)","v":833333.33333333337},{"$f":"IF(AC48<0,\"-\",ISPMT(返済条件入力!$C$8/12,G48,返済条件入力!$C$10*12,返済条件入力!$C$6))","v":-93750},null,143,"-",{"$f":"IF(AB48<0,\"-\",+返済条件入力!$C$6/返済条件入力!$C$10/12)","v":"-"},{"$f":"IF(AB48<0,\"-\",ISPMT(返済条件入力!$C$8/12,L48,返済条件入力!$C$10*12,返済条件入力!$C$6))","v":"-"},null,193,"-",{"$f":"IF(AA48<0,\"-\",+返済条件入力!$C$6/返済条件入力!$C$10/12)","v":"-"},{"$f":"IF(AA48<0,\"-\",ISPMT(返済条件入力!$C$8/12,Q48,返済条件入力!$C$10*12,返済条件入力!$C$6))","v":"-"},null,243,"-",{"$f":"IF(Z48<0,\"-\",+返済条件入力!$C$6/返済条件入力!$C$10/12)","v":"-"},{"$f":"IF(Z48<0,\"-\",ISPMT(返済条件入力!$C$8/12,V48,返済条件入力!$C$10*12,返済条件入力!$C$6))","v":"-"},-123,-73,-23,27,77]
[null,44,1097222.2222222222,{"$f":"IF(AD49<0,\"-\",+返済条件入力!$C$6/返済条件入力!$C$10/12)","v":833333.33333333337},{"$f":"IF(AD49<0,\"-\",ISPMT(返済条件入力!$C$8/12,B49,返済条件入力!$C$10*12,返済条件入力!$C$6))","v":-263888.88888888888},null,94,923611.11111111112,{"$f":"IF(AC49<0,\"-\",+返済条件入力!$C$6/返済条件入力!$C$10/12)","v":833333.33333333337},{"$f":"IF(AC49<0,\"-\",ISPMT(返済条件入力!$C$8/12,G49,返済条件入力!$C$10*12,返済条件入力!$C$6))","v":-90277.777777777781},null,144,"-",{"$f":"IF(AB49<0,\"-\",+返済条件入力!$C$6/返済条件入力!$C$10/12)","v":"-"},{"$f":"IF(AB49<0,\"-\",ISPMT(返済条件入力!$C$8/12,L49,返済条件入力!$C$10*12,返済条件入力!$C$6))","v":"-"},null,194,"-",{"$f":"IF(AA49<0,\"-\",+返済条件入力!$C$6/返済条件入力!$C$10/12)","v":"-"},{"$f":"IF(AA49<0,\"-\",ISPMT(返済条件入力!$C$8/12,Q49,返済条件入力!$C$10*12,返済条件入力!$C$6))","v":"-"},null,244,"-",{"$f":"IF(Z49<0,\"-\",+返済条件入力!$C$6/返済条件入力!$C$10/12)","v":"-"},{"$f":"IF(Z49<0,\"-\",ISPMT(返済条件入力!$C$8/12,V49,返済条件入力!$C$10*12,返済条件入力!$C$6))","v":"-"},-124,-74,-24,26,76]
[null,45,1093750,{"$f":"IF(AD50<0,\"-\",+返済条件入力!$C$6/返済条件入力!$C$10/12)","v":833333.33333333337},{"$f":"IF(AD50<0,\"-\",ISPMT(返済条件入力!$C$8/12,B50,返済条件入力!$C$10*12,返済条件入力!$C$6))","v":-260416.66666666666},null,95,920138.88888888888,{"$f":"IF(AC50<0,\"-\",+返済条件入力!$C$6/返済条件入力!$C$10/12)","v":833333.33333333337},{"$f":"IF(AC50<0,\"-\",ISPMT(返済条件入力!$C$8/12,G50,返済条件入力!$C$10*12,返済条件入力!$C$6))","v":-86805.555555555547},null,145,"-",{"$f":"IF(AB50<0,\"-\",+返済条件入力!$C$6/返済条件入力!$C$10/12)","v":"-"},{"$f":"IF(AB50<0,\"-\",ISPMT(返済条件入力!$C$8/12,L50,返済条件入力!$C$10*12,返済条件入力!$C$6))","v":"-"},null,195,"-",{"$f":"IF(AA50<0,\"-\",+返済条件入力!$C$6/返済条件入力!$C$10/12)","v":"-"},{"$f":"IF(AA50<0,\"-\",ISPMT(返済条件入力!$C$8/12,Q50,返済条件入力!$C$10*12,返済条件入力!$C$6))","v":"-"},null,245,"-",{"$f":"IF(Z50<0,\"-\",+返済条件入力!$C$6/返済条件入力!$C$10/12)","v":"-"},{"$f":"IF(Z50<0,\"-\",ISPMT(返済条件入力!$C$8/12,V50,返済条件入力!$C$10*12,返済条件入力!$C$6))","v":"-"},-125,-75,-25,25,75]
[null,46,1090277.7777777778,{"$f":"IF(AD51<0,\"-\",+返済条件入力!$C$6/返済条件入力!$C$10/12)","v":833333.33333333337},{"$f":"IF(AD51<0,\"-\",ISPMT(返済条件入力!$C$8/12,B51,返済条件入力!$C$10*12,返済条件入力!$C$6))","v":-256944.44444444444},null,96,916666.66666666674,{"$f":"IF(AC51<0,\"-\",+返済条件入力!$C$6/返済条件入力!$C$10/12)","v":833333.33333333337},{"$f":"IF(AC51<0,\"-\",ISPMT(返済条件入力!$C$8/12,G51,返済条件入力!$C$10*12,返済条件入力!$C$6))","v":-83333.333333333328},null,146,"-",{"$f":"IF(AB51<0,\"-\",+返済条件入力!$C$6/返済条件入力!$C$10/12)","v":"-"},{"$f":"IF(AB51<0,\"-\",ISPMT(返済条件入力!$C$8/12,L51,返済条件入力!$C$10*12,返済条件入力!$C$6))","v":"-"},null,196,"-",{"$f":"IF(AA51<0,\"-\",+返済条件入力!$C$6/返済条件入力!$C$10/12)","v":"-"},{"$f":"IF(AA51<0,\"-\",ISPMT(返済条件入力!$C$8/12,Q51,返済条件入力!$C$10*12,返済条件入力!$C$6))","v":"-"},null,246,"-",{"$f":"IF(Z51<0,\"-\",+返済条件入力!$C$6/返済条件入力!$C$10/12)","v":"-"},{"$f":"IF(Z51<0,\"-\",ISPMT(返済条件入力!$C$8/12,V51,返済条件入力!$C$10*12,返済条件入力!$C$6))","v":"-"},-126,-76,-26,24,74]
[null,47,1086805.5555555555,{"$f":"IF(AD52<0,\"-\",+返済条件入力!$C$6/返済条件入力!$C$10/12)","v":833333.33333333337},{"$f":"IF(AD52<0,\"-\",ISPMT(返済条件入力!$C$8/12,B52,返済条件入力!$C$10*12,返済条件入力!$C$6))","v":-253472.22222222222},null,97,913194.4444444445,{"$f":"IF(AC52<0,\"-\",+返済条件入力!$C$6/返済条件入力!$C$10/12)","v":833333.33333333337},{"$f":"IF(AC52<0,\"-\",ISPMT(返済条件入力!$C$8/12,G52,返済条件入力!$C$10*12,返済条件入力!$C$6))","v":-79861.111111111109},null,147,"-",{"$f":"IF(AB52<0,\"-\",+返済条件入力!$C$6/返済条件入力!$C$10/12)","v":"-"},{"$f":"IF(AB52<0,\"-\",ISPMT(返済条件入力!$C$8/12,L52,返済条件入力!$C$10*12,返済条件入力!$C$6))","v":"-"},null,197,"-",{"$f":"IF(AA52<0,\"-\",+返済条件入力!$C$6/返済条件入力!$C$10/12)","v":"-"},{"$f":"IF(AA52<0,\"-\",ISPMT(返済条件入力!$C$8/12,Q52,返済条件入力!$C$10*12,返済条件入力!$C$6))","v":"-"},null,247,"-",{"$f":"IF(Z52<0,\"-\",+返済条件入力!$C$6/返済条件入力!$C$10/12)","v":"-"},{"$f":"IF(Z52<0,\"-\",ISPMT(返済条件入力!$C$8/12,V52,返済条件入力!$C$10*12,返済条件入力!$C$6))","v":"-"},-127,-77,-27,23,73]
[null,48,1083333.3333333335,{"$f":"IF(AD53<0,\"-\",+返済条件入力!$C$6/返済条件入力!$C$10/12)","v":833333.33333333337},{"$f":"IF(AD53<0,\"-\",ISPMT(返済条件入力!$C$8/12,B53,返済条件入力!$C$10*12,返済条件入力!$C$6))","v":-250000},null,98,909722.22222222225,{"$f":"IF(AC53<0,\"-\",+返済条件入力!$C$6/返済条件入力!$C$10/12)","v":833333.33333333337},{"$f":"IF(AC53<0,\"-\",ISPMT(返済条件入力!$C$8/12,G53,返済条件入力!$C$10*12,返済条件入力!$C$6))","v":-76388.888888888891},null,148,"-",{"$f":"IF(AB53<0,\"-\",+返済条件入力!$C$6/返済条件入力!$C$10/12)","v":"-"},{"$f":"IF(AB53<0,\"-\",ISPMT(返済条件入力!$C$8/12,L53,返済条件入力!$C$10*12,返済条件入力!$C$6))","v":"-"},null,198,"-",{"$f":"IF(AA53<0,\"-\",+返済条件入力!$C$6/返済条件入力!$C$10/12)","v":"-"},{"$f":"IF(AA53<0,\"-\",ISPMT(返済条件入力!$C$8/12,Q53,返済条件入力!$C$10*12,返済条件入力!$C$6))","v":"-"},null,248,"-",{"$f":"IF(Z53<0,\"-\",+返済条件入力!$C$6/返済条件入力!$C$10/12)","v":"-"},{"$f":"IF(Z53<0,\"-\",ISPMT(返済条件入力!$C$8/12,V53,返済条件入力!$C$10*12,返済条件入力!$C$6))","v":"-"},-128,-78,-28,22,72]
[null,49,1079861.1111111112,{"$f":"IF(AD54<0,\"-\",+返済条件入力!$C$6/返済条件入力!$C$10/12)","v":833333.33333333337},{"$f":"IF(AD54<0,\"-\",ISPMT(返済条件入力!$C$8/12,B54,返済条件入力!$C$10*12,返済条件入力!$C$6))","v":-246527.77777777778},null,99,906250,{"$f":"IF(AC54<0,\"-\",+返済条件入力!$C$6/返済条件入力!$C$10/12)","v":833333.33333333337},{"$f":"IF(AC54<0,\"-\",ISPMT(返済条件入力!$C$8/12,G54,返済条件入力!$C$10*12,返済条件入力!$C$6))","v":-72916.666666666672},null,149,"-",{"$f":"IF(AB54<0,\"-\",+返済条件入力!$C$6/返済条件入力!$C$10/12)","v":"-"},{"$f":"IF(AB54<0,\"-\",ISPMT(返済条件入力!$C$8/12,L54,返済条件入力!$C$10*12,返済条件入力!$C$6))","v":"-"},null,199,"-",{"$f":"IF(AA54<0,\"-\",+返済条件入力!$C$6/返済条件入力!$C$10/12)","v":"-"},{"$f":"IF(AA54<0,\"-\",ISPMT(返済条件入力!$C$8/12,Q54,返済条件入力!$C$10*12,返済条件入力!$C$6))","v":"-"},null,249,"-",{"$f":"IF(Z54<0,\"-\",+返済条件入力!$C$6/返済条件入力!$C$10/12)","v":"-"},{"$f":"IF(Z54<0,\"-\",ISPMT(返済条件入力!$C$8/12,V54,返済条件入力!$C$10*12,返済条件入力!$C$6))","v":"-"},-129,-79,-29,21,71]
[null,50,1076388.888888889,{"$f":"IF(AD55<0,\"-\",+返済条件入力!$C$6/返済条件入力!$C$10/12)","v":833333.33333333337},{"$f":"IF(AD55<0,\"-\",ISPMT(返済条件入力!$C$8/12,B55,返済条件入力!$C$10*12,返済条件入力!$C$6))","v":-243055.55555555556},null,100,902777.77777777775,{"$f":"IF(AC55<0,\"-\",+返済条件入力!$C$6/返済条件入力!$C$10/12)","v":833333.33333333337},{"$f":"IF(AC55<0,\"-\",ISPMT(返済条件入力!$C$8/12,G55,返済条件入力!$C$10*12,返済条件入力!$C$6))","v":-69444.444444444438},null,150,"-",{"$f":"IF(AB55<0,\"-\",+返済条件入力!$C$6/返済条件入力!$C$10/12)","v":"-"},{"$f":"IF(AB55<0,\"-\",ISPMT(返済条件入力!$C$8/12,L55,返済条件入力!$C$10*12,返済条件入力!$C$6))","v":"-"},null,200,"-",{"$f":"IF(AA55<0,\"-\",+返済条件入力!$C$6/返済条件入力!$C$10/12)","v":"-"},{"$f":"IF(AA55<0,\"-\",ISPMT(返済条件入力!$C$8/12,Q55,返済条件入力!$C$10*12,返済条件入力!$C$6))","v":"-"},null,250,"-",{"$f":"IF(Z55<0,\"-\",+返済条件入力!$C$6/返済条件入力!$C$10/12)","v":"-"},{"$f":"IF(Z55<0,\"-\",ISPMT(返済条件入力!$C$8/12,V55,返済条件入力!$C$10*12,返済条件入力!$C$6))","v":"-"},-130,-80,-30,20,70]